BEGIN:VCALENDAR
VERSION:2.0
PRODID:-//tapahtumainfo.fi//NONSGML Luonnonperintösäätiö Tukilippu Tavara-asema//EN
METHOD:REQUEST
BEGIN:VEVENT
UID:20260422T132414-1493547680-tapahtumainfo.fi
DTSTAMP:20260422T132414
DTSTART:20260426T020000Z
DTEND:20260426T020000Z
LOCATION:Tavara-asema
SUMMARY:Luonnonperintösäätiö Tukilippu Tavara-asema
DESCRIPTION:<html><head></head><body><br /><br /> <br /><br />  Visit event in our website: <a href='https://tapahtumainfo.fi/tapahtuma/2026/04/luonnonperintosaatio-tukilippu-tavara-asema/342023'>Tapahtumainfo.fi</a></body></html>
END:VEVENT
END:VCALENDAR
