BEGIN:VCALENDAR
VERSION:2.0
PRODID:-//tapahtumainfo.fi//NONSGML Wheel//EN
METHOD:REQUEST
BEGIN:VEVENT
UID:20260420T111055-1085025099-tapahtumainfo.fi
DTSTAMP:20260420T111055
DTSTART:20241102T020000Z
DTEND:20241102T020000Z
LOCATION:On the Rocks
SUMMARY:Wheel
DESCRIPTION:<html><head></head><body><h2>WHEEL SUOMENKIERTUEELLE LOPPUSYKSYSTÄ</h2><br /><p>Vuonna 2015 perustettu WHEEL on vakiinnuttanut asemansa yhtenä Suomen mielenkiintoisimmista proge-metalliakteista. Kulmikkaat riffit ja unohtumattomat melodiat ovat helsinkiläisyhtyeen tavaramerkki ja kantava teema. Uusi ”Charismatic Leaders” -albumi merkkaa yhtyeen uran seuraavan luvun alkaneeksi.</p><br /><p>"Tämä on se raskas albumimme", laulajakitaristi James Lascelles toteaa. ”Ihmisille, jotka pitävät metallista ja pitävät Wheel-musiikista, tämä on heille.”</p><br /><p>Uuden pitkäsoiton myötä WHEEL palaa keikkalavoille. Lokakuun lopussa yhtye aloittaa Euroopan kiertueensa kuudella kotimaan keikalla. TuskaLivellä on kunnia esittää Tampereen, Helsingin ja Jyväskylän keikat.<br></p><br /><p><a href="http://wheelband.net/" target="_blank">wheelband.net</a><a href="https://tuska.fi/tuskalive/" target="_blank"><br></a><a href="https://tuska.fi/tuskalive/" target="_blank">tuska.fi/tuskalive</a><br><a href="https://www.greybeard.fi/" target="_blank">greybeard.fi</a></p><br /><br /><p>Varmista soittoajat keikkapäivänä On The Rocksin sivuilta: <a href="http://www.rocks.fi/tapahtumat" target="_blank">www.rocks.fi/tapahtumat</a><strong><br></strong></p><br /><p><strong>Liput ovelta, mikäli jäljellä.</strong></p><br /><p><strong>Ovella peritään eteispalvelumaksu 3,50 €.</strong><strong><br></strong></p> <br /><br />  Visit event in our website: <a href='https://tapahtumainfo.fi/tapahtuma/2024/11/wheel/343493'>Tapahtumainfo.fi</a></body></html>
END:VEVENT
END:VCALENDAR
