BEGIN:VCALENDAR
VERSION:2.0
PRODID:-//tapahtumainfo.fi//NONSGML Dilemma//EN
METHOD:REQUEST
BEGIN:VEVENT
UID:20260422T114106-1519310628-tapahtumainfo.fi
DTSTAMP:20260422T114106
DTSTART:20240628T020000Z
DTEND:20240628T020000Z
LOCATION:Ravintola Tukkijätkä
SUMMARY:Dilemma
DESCRIPTION:<html><head></head><body><h3>Dilemma keikalla Heinolan Tukkijätkässä perjantaina 28.6.2024</h3><br /><br /><p>VIP Paketti sisältää liput 10 henkilölle, sisäänpääsyn jonon ohi, naulakkopalvelut,  oman vip tilan, oman baaritiskin ja alkumaljat.</p><br /><p><strong>Esteettömyys:</strong><br><br>Avustaja pääsee tapahtumaan ilmaiseksi avustettavan kanssa samalla lipulla: <strong>kyllä</strong><br>Tapahtumaan on esteetön pääsy pyörätuolilla: <strong>kyllä</strong><br>Tapahtumapaikalla on esteetön WC: <strong>kyllä</strong></p> <br /><br />  Visit event in our website: <a href='https://tapahtumainfo.fi/tapahtuma/2024/06/dilemma/343791'>Tapahtumainfo.fi</a></body></html>
END:VEVENT
END:VCALENDAR
