BEGIN:VCALENDAR
VERSION:2.0
PRODID:-//tapahtumainfo.fi//NONSGML Ihan pienet luut//EN
METHOD:REQUEST
BEGIN:VEVENT
UID:20260419T215720-502628629-tapahtumainfo.fi
DTSTAMP:20260419T215720
DTSTART:20250208T140000Z
DTEND:20250208T020000Z
LOCATION:Teatteri Jurkka
SUMMARY:Ihan pienet luut
DESCRIPTION:<html><head></head><body>IHAN PIENET LUUT<br>Kantaesitys 16.11.2024<br><br>Ihan pienet luut on rosoisen kaunis riemunkiljahdus itsetunnolle ja sen rakentumiselle. <br><br>Se sijoittuu 1980–1990-luvuille, tunnustuksellisten päiväkirjamerkintöjen aikaan. Se sukeltaa ikuiseen iltapäivään, Fii-deodorantin ja hajukumien tuoksuun, fataalin häpeän kokemukseen ja seksuaalisen uteliaisuuden heräämiseen.<br><br>Esityksen pääkallopaikkana toimii Tytön huone, jonka suojissa kasvetaan ihmisiksi. Sinne ei aikuisten katse ulotu. Sen maailma on hempeän vaaleanpunainen ja viiltävän vaarallinen. <br><br>Ihan pienet luut kertoo tyttöjen kokemasta syyllisyydestä, näkymättömyydestä sekä eräästä ystävyydestä. Se kysyy, mitä tapahtuisi, jos uskaltaisimme lausua ääneen suuret salaisuutemme. <br><br>Millaisen ihmisen kohtaisimme, jos katsoisimme itseämme hellyydellä? Entä jos se häpeällisin asia onkin lopulta se, joka meitä eniten yhdistää?<br><br>Tyttöjen rooleissa nähdään Pihla Penttinen ja Hanna Vahtikari, jotka ovat kirjoittaneet näytelmän yhdessä ohjaaja Ria Katajan kanssa.<br><br>Kirjoittaneet: Ria Kataja, Pihla Penttinen ja Hanna Vahtikari<br>Ohjannut: Ria Kataja<br>Näyttämöllä: Pihla Penttinen ja Hanna Vahtikari<br>Lavastus: Annukka Pykäläinen<br>Pukusuunnittelu: Riitta Röpelinen<br>Valo- ja äänisuunnittelu: Saku Kaukiainen<br />Musiikin sävellys: Marzi Nyman <br /><br />  Visit event in our website: <a href='https://tapahtumainfo.fi/tapahtuma/2025/02/ihan-pienet-luut/349405'>Tapahtumainfo.fi</a></body></html>
END:VEVENT
END:VCALENDAR
