BEGIN:VCALENDAR
VERSION:2.0
PRODID:-//tapahtumainfo.fi//NONSGML Sirkus Finlandia - PIEKSÄMÄKI//EN
METHOD:REQUEST
BEGIN:VEVENT
UID:20260424T194120-1526733508-tapahtumainfo.fi
DTSTAMP:20260424T194120
DTSTART:20240719T190000Z
DTEND:20240719T020000Z
LOCATION:SIRKUS FINLANDIA
SUMMARY:Sirkus Finlandia - PIEKSÄMÄKI
DESCRIPTION:<html><head></head><body> <br /><br />  Visit event in our website: <a href='https://tapahtumainfo.fi/tapahtuma/2024/07/sirkus-finlandia-pieksamaki/350137'>Tapahtumainfo.fi</a></body></html>
END:VEVENT
END:VCALENDAR
