BEGIN:VCALENDAR
VERSION:2.0
PRODID:-//tapahtumainfo.fi//NONSGML Tomatkarnevalen 2024//EN
METHOD:REQUEST
BEGIN:VEVENT
UID:20260425T192037-291208818-tapahtumainfo.fi
DTSTAMP:20260425T192037
DTSTART:20240706T200000Z
DTEND:20240706T020000Z
LOCATION:Närpes torg
SUMMARY:Tomatkarnevalen 2024
DESCRIPTION:<html><head></head><body>3-6.7 är det Tomatkarneval i Närpes centrum och fredag och lördag kväll 6-7.7 ordnar Tomatkarnvevalen Entertainment kvällsfest på området.<br /><br />Fredag 5.7 från kl. 21.00<br />Lördag 6.7 från 20.00<br /><br />Biljetter:<br />Tvådagarsbiljett 6-7.7.2024 47 €<br />Tvådagarsbiljetten byts till armband<br />Fredagsbiljett 6.7 25 €<br />Lördagsbiljett 7.7 35 €<br /><br />Åldersgräns 18 år både fredag och lördag!<br /><br />Fredag: <br />Kurt Hagbergz<br />Patrik Isaksson<br /><br />Lördag:<br />Kurt Hagbergz<br />Lasse Eriksson<br />DJ Maleek <br /><br />  Visit event in our website: <a href='https://tapahtumainfo.fi/tapahtuma/2024/07/tomatkarnevalen-2024/350239'>Tapahtumainfo.fi</a></body></html>
END:VEVENT
END:VCALENDAR
