BEGIN:VCALENDAR
VERSION:2.0
PRODID:-//tapahtumainfo.fi//NONSGML Vinhan kirjajuhlat//EN
METHOD:REQUEST
BEGIN:VEVENT
UID:20260422T051759-140616490-tapahtumainfo.fi
DTSTAMP:20260422T051759
DTSTART:20240726T020000Z
DTEND:20240726T020000Z
LOCATION:Vinhan kirjakauppa
SUMMARY:Vinhan kirjajuhlat
DESCRIPTION:<html><head></head><body><h2>Vinhan kirjajuhlat Ruovedellä 26.-27.7.2024!</h2><br /><p>Vinhan kirjajuhlia vietetään jo toista kertaa Vinhan puutarhassa, ylisillä ja Sofia Magdalenan kirkossa. Ohjelmassa runsaasti kirjallisuutta, musiikkia ja kuvataidetta.<br></p><br /><p>Kirjajuhlien aluksi, perjantaina klo 14 avataan Albert Pepermansin näyttely <em>Le plaisir de peindre</em>. Festivaaliohjelmaa starttaa klo 16. Perjantaina esiintyvät kirjailijat <strong>Enni Mustonen, Eppu Nuotio, Pajtim  Statovci </strong>ja<strong> Sinikka Vuola</strong>.&nbsp;Perjantain musiikista vastaa M & Band.  Ilta huipentuu läheiseen Sofia Magdalenan kirkkoon, jossa kuulemme vuoropuheluna musiikkia <strong>Tapani Rinteeltä</strong> ja <strong>Anna-Riikka Carlsonin</strong> lausumana Eeva Kilven runoja. Ilta jatkuu kirkossa Tapani Rinteen elämyksellisellä konsertilla.</p><br /><p>Lauantaina ohjelman aloittaa klo 12 <strong>Ellen Thesleff</strong> -näyttämöteos <em>Omakuva – unia Ellen Thesleffin elämästä ja taiteesta</em>. Näyttämölle piirtyvän elävän taideteoksen inspiraationa toimivat Thesleffin teosten viivat ja vedot sekä taiteilijan kirjeistä kumpuava sielunmaisema – hänen elämänsä ja taiteensa kaaret. Kirjailijavieraat lauantaina ovat<strong> Sirpa Kähkönen, Paula Hotti, Anu Ojala, Tuomas Niskakangas, Merja Mäki </strong>ja<strong> Joel Haahtela</strong>.&nbsp;Taiteilija Albert Pepermansin Artist Talk, jonka aikana kuulemme hänen pitkästä urastaan ja työskentelytavoistaan. Illan kruunaavat <strong>Viitasen Piian </strong>ja<strong> Mikko Joensuun </strong>esiintymiset.</p><br /><p>Haastattelijoina toimivat <strong>Seppo Puttonen, Juha Roiha</strong> ja <strong>Mari Saavalainen.</strong></p><br /><p>Vinhan kirjajuhlille on helppo kulkea Tampereelta Oriveden kautta bussilla. Bussin aikataulun sekä varaamis- ja maksuohjeet löydät <a href="https://vinhankirjakauppa.fi/tapahtuma/vinhan-kirjajuhlat-26-28-7-2024/" target="_blank">täältä.</a></p><br /><p>Kirjajuhlien liput ovat myynnissä Tiketissä ja Vinhan kirjakaupassa. Päivälippu 25€ ja kahden päivän lippu 40€.</p><br /><p>Muutokset ohjelmaan mahdollisia.<br></p><br /><br /><p>Liput vaihdetaan rannekkeisiin saapuessa tapahtuma-alueelle. <strong><strong><strong><br></strong></strong></strong></p><br /><p><strong><strong><strong>Aikataulut:<br></strong></strong></strong><strong>Perjantai:</strong><br>14:00 Näyttely <em>Le plaisir de peindre</em> avataan<br>16:00 Festivaaliohjelma käynnistyy</p><br /><p><strong>Lauantai:</strong><br>12:00 Festivaaliohjelma käynnistyy<br></p><br /><p><strong><strong><strong>***</strong></strong></strong></p><br /><p><strong>Esteettömyystiedot:<br></strong>Avustaja pääsee tapahtumaan ilmaiseksi avustettavan kanssa samalla lipulla: kyllä<br>Tapahtumapaikalla on esteetön WC: kyllä<br>Tapahtumassa on pyörätuolikoroke: ei<br>Tapahtuma osittain esteetön.<strong><br>Esteettömyysasioissa olethan yhteydessä järjestäjään:</strong> vinha@vinhankirjakauppa.fi</p> <br /><br />  Visit event in our website: <a href='https://tapahtumainfo.fi/tapahtuma/2024/07/vinhan-kirjajuhlat/350582'>Tapahtumainfo.fi</a></body></html>
END:VEVENT
END:VCALENDAR
