BEGIN:VCALENDAR
VERSION:2.0
PRODID:-//tapahtumainfo.fi//NONSGML FLAME JAZZ: Maja Mannila Trio//EN
METHOD:REQUEST
BEGIN:VEVENT
UID:20260419T182735-2100987984-tapahtumainfo.fi
DTSTAMP:20260419T182735
DTSTART:20240927T220000Z
DTEND:20240927T020000Z
LOCATION:Åbo Svenska Teater, Tiljan
SUMMARY:FLAME JAZZ: Maja Mannila Trio
DESCRIPTION:<html><head></head><body><b>Flame Jazz: Maja Mannila Trio</b><br><br>Nouseva tähti Maja Mannila on vaikuttava, kansainväliseen uraan tähtäävä jazz/soul-laulaja, pianisti ja säveltäjä. Hänen sielukas äänensä soljuu luonnollisen vaivattomasti ja on taituruudessaan suvereenia. Mannila on julkaissut kaksi albumillista omia englanninkielisiä kappaleita, joissa kohtaavat soul, R&B, jazz ja gospel.<br><br>Maja Mannila – laulu ja piano<br>Johannes Granroth – basso<br>Severi Sorjonen – rummut <br><br>ESITYSPÄIVÄ 27.9. klo 22 Tiljan-näyttämöllä<br><br> <br /><br />  Visit event in our website: <a href='https://tapahtumainfo.fi/tapahtuma/2024/09/flame-jazz-maja-mannila-trio/352504'>Tapahtumainfo.fi</a></body></html>
END:VEVENT
END:VCALENDAR
