BEGIN:VCALENDAR
VERSION:2.0
PRODID:-//tapahtumainfo.fi//NONSGML Ravintola Holvin pihatapahtuma//EN
METHOD:REQUEST
BEGIN:VEVENT
UID:20260423T182547-815083070-tapahtumainfo.fi
DTSTAMP:20260423T182547
DTSTART:20240615T020000Z
DTEND:20240615T020000Z
LOCATION:Ravintola Holvi / Hotelli Marilyn
SUMMARY:Ravintola Holvin pihatapahtuma
DESCRIPTION:<html><head></head><body><p><strong>Eini,</strong> Suomen ainoa ja oikea discokuningatar.</p><br /><p>Hittejä kuudelta eri vuosikymmeneltä jotka me kaikki muistamme. Mm. Yes sir alkaa polttaa, xanadu, kesä ja yö, vihdoin valmis…</p><br /><p>Pitkästä urastaan huolimatta meno ei ole hidastumassa, vaan artisti jatkaa keikkailua discokuningattarena uuden musiikin siivittämänä.</p><br /><br /><p><strong>Liput ovelta 25 €.</strong></p> <br /><br />  Visit event in our website: <a href='https://tapahtumainfo.fi/tapahtuma/2024/06/ravintola-holvin-pihatapahtuma/352817'>Tapahtumainfo.fi</a></body></html>
END:VEVENT
END:VCALENDAR
