BEGIN:VCALENDAR
VERSION:2.0
PRODID:-//tapahtumainfo.fi//NONSGML Unkarilaisen pianotaiteilijan Tünde Kuruczin mestarikurssin päätöskonsertti//EN
METHOD:REQUEST
BEGIN:VEVENT
UID:20260422T202356-1773948274-tapahtumainfo.fi
DTSTAMP:20260422T202356
DTSTART:20240524T180000Z
DTEND:20240524T020000Z
LOCATION:Sibelius-Akatemia, R-talon konserttisali (Pohjoinen Rautatiekatu 9, Helsinki)
SUMMARY:Unkarilaisen pianotaiteilijan Tünde Kuruczin mestarikurssin päätöskonsertti
DESCRIPTION:<html><head></head><body><p>Unkarilainen<br />pianotaiteilija ja Salzburgin Mozarteum-yliopiston apulaisprofessori Tünde<br />Kurucz pitää kamarimusiikin mestarikurssia Sibelius-Akatemiassa viikolla 21.<br />Osallistujat esittävät kurssilla käsiteltyjä musiikkikappaleita pe 24.5. klo 18<br />alkaen Sibelius-Akatemian R-talon konserttisalissa (Pohjoinen Rautatiekatu 9,<br />Helsinki). </p><br /><br /><p></p><br /><br /><p>Konsertissa<br />esiintyvät myös viulutaiteilija Réka Szilvay ja pianotaiteilija Tünde Kurucz.<br />Ohjelmistossa kuullaan mm. Mozartin ja Beethovenin kamarimusiikkiteoksia.<br />Tarkka konserttiohjelma ja kaikkien esiintyjien nimet ilmoitetaan myöhemmin (<a href="https://www.uniarts.fi/tapahtumat/pianokamarimusiikin-helmia/">https://www.uniarts.fi/tapahtumat/pianokamarimusiikin-helmia/</a>).<br /></p><br /><br /><p></p><br /><br /><p>Konserttiin<br />on vapaa pääsy.</p><br /><br /><p></p> <br /><br />  Visit event in our website: <a href='https://tapahtumainfo.fi'>Tapahtumainfo.fi</a></body></html>
END:VEVENT
END:VCALENDAR
