BEGIN:VCALENDAR
VERSION:2.0
PRODID:-//tapahtumainfo.fi//NONSGML Helenen Salongissa â Helene Schjerfbeck//EN
METHOD:REQUEST
BEGIN:VEVENT
UID:20260425T214420-636537350-tapahtumainfo.fi
DTSTAMP:20260425T214420
DTSTART:20240415T020000Z
DTEND:20501231T020000Z
LOCATION:Museokeskus Riemu
SUMMARY:Helenen Salongissa â Helene Schjerfbeck
DESCRIPTION:<html><head></head><body>Nyt yleisölle avatussa Helene Schjerfbeckin (1862&ndash;1946) teoksille omistetussa huoneessa, Helenen Salongissa, on esillä Riihimäen taidemuseon Tatjana ja Pentti Wähäjärven kokoelmaan kuuluvia Schjerfbeck-teoksia. Mukana on öljyvärimaalauksia sekä paperipohjaisia teoksia, erityisesti Schjerfbeckin aiemmista maalauksistaan tekemiä toisintoja, kuten teos Silkkikenkä, Pukukuva sekä uustulkinta ranskalaisen taiteilija Constantin Guysn teoksesta. Esillä on kaikkiaan kaksitoista teosta. Näyttelytilaa täydentävät muun muassa tekoälyllä toteutettu video, Gerda Thesleffin (1871&ndash;1939) suunnittelemat maljakot sekä huonekalut.<br><br>Aiheiltaan pienoisnäyttelyn teokset kuuluvat Schjerfbeckin tuotannon keskeisimpiin aiheisiin, kuten henkilökuviin. Ajallisesti ne sijoittuvat pääosin 1900-luvun alkuun. Teokset muodostavat tyylillisen kaaren aina hienovaraisesti kohdetta jäljentävistä teoksista modernistisempaan maalaustapaan. <br /><br />  Visit event in our website: <a href='https://tapahtumainfo.fi/tapahtuma/2024/04/helenen-salongissa--helene-schjerfbeck/353185'>Tapahtumainfo.fi</a></body></html>
END:VEVENT
END:VCALENDAR
