BEGIN:VCALENDAR
VERSION:2.0
PRODID:-//tapahtumainfo.fi//NONSGML Just3 On the Way//EN
METHOD:REQUEST
BEGIN:VEVENT
UID:20260421T084026-1827184761-tapahtumainfo.fi
DTSTAMP:20260421T084026
DTSTART:20240616T020000Z
DTEND:20240616T020000Z
LOCATION:Hakasalmen huvila
SUMMARY:Just3 On the Way
DESCRIPTION:<html><head></head><body>JUST3-triossa soittavat Heikki Sivonen, huilu; Ilkka Teerijoki, klarinetti, ja Anne Jusslin, kitara. Konsertin säveltäjiä ovat László Süle, Andrew Zohn, Ernesto Nazareth, Astor Piazzolla ja Carita Holmström. Konsertti on osa yhtyeen On the Way -levyn julkaisukiertuetta.<br><br>Sisältyy sisäänpääsymaksun hintaan, ei erillisveloitusta. <br /><br />  Visit event in our website: <a href='https://tapahtumainfo.fi/tapahtuma/2024/06/just3-on-the-way/353197'>Tapahtumainfo.fi</a></body></html>
END:VEVENT
END:VCALENDAR
