BEGIN:VCALENDAR
VERSION:2.0
PRODID:-//tapahtumainfo.fi//NONSGML Hippalot:Lasten miniopastukset Taidevaltakunta '24 -biennaaliin to-su 1.â4.8. klo 11, 13 ja 15//EN
METHOD:REQUEST
BEGIN:VEVENT
UID:20260421T020812-1426173298-tapahtumainfo.fi
DTSTAMP:20260421T020812
DTSTART:20240802T020000Z
DTEND:20240802T020000Z
LOCATION:Hämeenlinnan taidemuseo
SUMMARY:Hippalot:Lasten miniopastukset Taidevaltakunta '24 -biennaaliin to-su 1.â4.8. klo 11, 13 ja 15
DESCRIPTION:<html><head></head><body>Lasten miniopastuksilla tutustutaan Taidevaltakunta '24 -biennaaliin Hippaloiden (1.&ndash;4.8.) jokaisena päivänä klo 11, 13 ja 15. <br><br>Millainen on maailma vuonna 2050, kun taiteilijat ovat saaneet taidevallan? Hyppää mukaan Taidevaltakunta '24 -biennaalin miniopastuksille ihmettelemään tulevaisuuden maailmaa ja taidetta. Miniopastuksen kesto noin 15 minuuttia.<br><br>Opastukset alkavat Lohrmann-rakennuksesta. <br><br>Miniopastuksille lasten kanssa osallistuvat aikuiset voivat maksutta vierailla Taidevaltakunta '24 -biennaalissa saman päivän aikana. <br /><br />  Visit event in our website: <a href='https://tapahtumainfo.fi'>Tapahtumainfo.fi</a></body></html>
END:VEVENT
END:VCALENDAR
