BEGIN:VCALENDAR
VERSION:2.0
PRODID:-//tapahtumainfo.fi//NONSGML Hymypojan vuosi - Kalervo Palsan perintö nykytaiteessa//EN
METHOD:REQUEST
BEGIN:VEVENT
UID:20260420T223334-1733561126-tapahtumainfo.fi
DTSTAMP:20260420T223334
DTSTART:20240731T020000Z
DTEND:20240901T020000Z
LOCATION:Vilho Lampi -museo
SUMMARY:Hymypojan vuosi - Kalervo Palsan perintö nykytaiteessa
DESCRIPTION:<html><head></head><body>Kittiläläinen Kalervo Palsa (1947-1987) oli eläessään voimakkaita tunteita ja ristiriitaisia ajatuksia  herättänyt taiteilija niin aikalaisten keskuudessa kuin taidekentälläkin. Tämä on osin totta edelleen. Palsan syntymän 75v. juhlavuodeksi valmistuneet nykytaideteokset pitävät sisällään eri nykytaiteen genrejä ja tekemistä maalauksesta kuvanveistoon ja mediataiteesta esineteoksiin sekä yhteisötaiteeseen. Hanketta kutsuttiin nimellä Hymypojan vuosi.<br><br>Vilho Lampi oli myös yksi harvoista Palsaa inspiroineista taiteilijoista, jota hän varauksetta ihaili. Vuonna 1987 traagisissa olosuhteissa kuolleella Kalervo Palsalla ei ollut mahdollisuutta henkilökohtaisesti tavata vuonna 1936 niin ikään traagisesti poistunutta innoittajaansa. Kuviteltu kohtaaminen toteutuu nyt tämän näyttelyn muodossa Vilho Lampi Museossa kun taiteilijoiden perinnöt kohtaavat tässä ajassa.<br> <br /><br />  Visit event in our website: <a href='https://tapahtumainfo.fi/tapahtuma/2024/07/hymypojan-vuosi-kalervo-palsan-perinto-nykytaiteessa/354187'>Tapahtumainfo.fi</a></body></html>
END:VEVENT
END:VCALENDAR
