BEGIN:VCALENDAR
VERSION:2.0
PRODID:-//tapahtumainfo.fi//NONSGML Jysäri 2025//EN
METHOD:REQUEST
BEGIN:VEVENT
UID:20260422T114226-566246964-tapahtumainfo.fi
DTSTAMP:20260422T114226
DTSTART:20250703T020000Z
DTEND:20250703T020000Z
LOCATION:Himos Park
SUMMARY:Jysäri 2025
DESCRIPTION:<html><head></head><body><h2><strong>JYSÄRI 2025 - LIPUT & INFO</strong></h2><br /><p>Suomen suurin ja mahtavin tamppausmusiikkiin keskittyvä festivaali kokoaa yhteen niin fanit, artistit kuin upean tunnelman! Vuodesta 2013 järjestetty eurodancefestivaali Jysäri juhlitaan perinteiseen tapaan Himos Parkissa 3.-5.7.2025 torstaista lauantaihin. Festivaali on julkaissut koko laajan ohjelmakattauksen artistien esiintymispäivien kera ja myynnissä ovat festivaalin kaikki lipputyypit päivälipuista VIP-lippuihin.</p><br /><p>Jo aiemmin vuoden 2024 puolella julkaistua ohjelmistoa Suomen suurimmalla eurodancefestivaalilla täydentävät nyt comebackin liveareenoille kesällä tekevä <strong>Bomfunk MC's</strong>, joka on yksi toivotuimmista nimistä Jysäriin kautta aikain. Tämän comebackin lisäksi Himos Parkin lavoilla nähdään Jysärin vakiovieraita rakkaasta naapurimaasta ruotsista, kun paikalle saapuvat <strong>Pandora </strong>ja <strong>Basic Element</strong>.</p><br /><p>Mukana Jysärissä nähdään myös <strong>O-Zone</strong>, kotimainen DJ-tuottaja <strong>K-System</strong>, ranskan- espanjan- ja englanninkielisistä sanoista sanoituksia tekevä ruotsalainen <strong>La Cream</strong> sekä yksi Suomen suosituimmista ysäriDJ:stä <strong>Oku Luukkainen</strong> vierailijan kera, vierailija paljastetaan myöhemmin. Jysärilavoilla nähdään myös <strong>Aikakone </strong>sekä erikoinen Suomimix -kokoelmaesitys, jossa lavalla nähdään kotimaiset <strong>Chorale, Aurium </strong>sekä <strong>CatCat. </strong>Himos Areenalla juhlitaan jatkoja jokaisena festari-iltana ja viihdyttämässä <strong>Poppikone: DJ Ice K & Friends.</strong></p><br /><p>Ennen joulua Jysäriin nimettiin jo <strong>2Unlimited</strong>, <strong>E-Type</strong>, <strong>Alexia</strong>, <strong>Matthias Menckin </strong>ja <strong>Dennis Bohnin Brooklyn Bounce</strong>, <strong>ItaloBrothers</strong>, <strong>Waldo’s People</strong>, <strong>Daze</strong>,<strong> DJ Sash!</strong>, <strong>DJ Basshunter</strong>, <strong>Rednex</strong>, <strong>Movetron </strong>sekä Jysärin rakastetun hostin DJ Ice K:n 30-vuotisjuhlan erikoissetti <strong>DJ Ice K 30v Special Set.</strong></p><br /><p><strong>TORSTAI 3.7.<br><br /></strong>2Unlimited, Pandora, Movetron, Basic Element, K-System, DJ Ice K 30 v special<br><br />Himos Areenan jatkot: Poppikone: DJ ICE K & Friends</p><br /><p><strong>PERJANTAI 4.7.<br><br /></strong>E-Type, Basshunter, Waldo's People, DaBuzz, Oku Luukkainen & Friends, DJ Sash!, Brooklyn Bounce, Rednex<br><br />Himos Areenan jatkot: Poppikone: DJ ICE K & Friends</p><br /><p><strong>LAUANTAI 5.7.<br><br /></strong>Bomfunk MC's, Alexia, Daze, ItaloBrothers, O-Zone, Aikakone, La Cream, Suomimix: Chorale+Aurium, CatCat<br><br />Himos Areenan jatkot: Poppikone: DJ ICE K & Friends<br></p><br /><p><a href="https://www.facebook.com/jysari/" target="_blank">Facebook</a> | <a href="https://www.instagram.com/jysarihimos/?hl=fi" target="_blank">Instagram</a> @jysarihimos</p><br /><p><a href="http://www.jysari.fi/" target="_blank"><strong>www.jysari.fi</strong></a></p><br /><p><strong>Ikäraja: K-18</strong></p><br /><hr><br /><p><strong>FESTIVAALILIPUN OSTAJALLE: RUUTU+ PREMIUM 2KK YHDEN KUUKAUDEN HINNALLA!</strong><br>Ostamalla Jysäri pääsylipun Tiketin verkkokaupasta, saat Ruutu+ etukoodin jolla voit lunastaa Ruutu+ Premium -tilauksen 2kk yhdenkuukauden hinnalla!<br><br>Tarkista Ruutu+ -koodi kuitistasi. Saat jokaista ostamastasi festivaalilippua kohden yhden Ruutu+ koodin.</p><br /><p>Käytä koodi osoitteessa <a href="https://www.ruutu.fi/lahjakortti" target="_blank">ruutu.fi/lahjakortti</a>, muista kirjautua Ruutu-palveluun samalla tunnuksella kuin muutenkin käytät Ruutua.<br>Koodi on kertakäyttöinen. Käytä koodi kuukauden kuluessa sen toimitushetkestä.<br></p><br /><p><em><strong>Kampanjaehdot</strong>:<br>Ruutu+ Premium 2 kk yhden hinnalla: 15,99 €. Kahden kuukauden jälkeen tilaus jatkuu toistaiseksi voimassa olevana hintaan 15,99 €/kk (sis. Ruutu+ 9,99 €/kk ja Premium 6 €/kk). Ei voi yhdistää voimassa olevaan tilaukseen. Vain yksi etukoodi käyttäjää kohden.</em></p><br /><br /><p><strong><strong>Festivaalilippujen varausaika 2 päivää.<br><strong><strong>Pääsyliput vaihdetaan rannekkeeseen.</strong></strong></strong></strong></p><br /><p><strong><strong><strong><strong><strong><br></strong></strong></strong></strong>VIP-LIPPUUN SISÄLTYY</strong><strong><strong><strong><strong><br></strong></strong></strong></strong></p><br /><ul><br /> <li>VIP-ranneke ja VIP-passi kaulanauhalla</li><br /></ul><br /><ul><li>Oma rannekkeenvaihto ja veloitukseton narikka festivaalialueen pääportilla</li><li>Oma sujuvan saapumisen mahdollistava kaista ja turvatarkastus festivaalialueen pääportilla</li><li>VIP-alueen oma anniskelupiste, jossa on laajennettu tuotevalikoima muuhun alueeseen verrattuna</li><li>Herkullinen ruokailu kerran päivässä</li><li>Vesivessat VIP-alueella sekä oikeus käyttää festivaalialueen muitakin vesivessoja veloituksetta</li><li>VIP-hostit huolehtimassa päivän sujuvuudesta ja pullomyynnistä pöytiin</li><li>Viihdyttävää VIP-ohjelmaa ja muita lisäpalveluita kuten puhelimen latauspiste</li></ul><br /><p>VIP-alue ja sen palvelut sijaitsevat aivan päälavan tuntumassa rajatulla alueella. Alueella on kaksikerroksinen katettu rakennelma, josta on <strong>loistavat näkymät päälavalle.  </strong>VIP-alueella on myös<strong><br />runsaasti istumatilaa</strong>, joka mahdollistaa juhlittujen jalkojen lepuuttamisen. VIP-lippu tarjoaa kaiken tämän sekä paljon muuta. </p><br /><p>Lisätietoa <a href="https://jysari.fi/vip/">https://jysari.fi/vip/</a> </p><br /><p><em>HUOM! VIP-lippuja ei ole mahdollista ostaa kulttuurietuudella, sillä VIP-lippujen palveluun kuuluu myös ruokailu, joka ei kuulu kulttuuriseteliedun piiriin.</em><em><br></em></p><br /><hr><br /><p><strong>WC-Rannekkeet</strong><br></p><br /><p>Himoksella palvelevat Suomen vihreimmät vesi-WC:t tapahtuma-alueella.<br /> Pääset hyödyntämään vessoja hankkimalla itsellesi WC-rannekkeen! <br />Suosittelemme ostamaan rannekkeen ennakkoon, jolloin vältyt ruuhkalta <br />tapahtuma-alueen rannekkeenmyyntipisteillä. Alueelta löytyy myös <br />runsaasti tavallisia veloituksettomia festarivessoja, mutta mikäli <br />kaipaat mukavuutta niin WC-ranneke tarjoilee luksusta <br />festivaalipäivääsi.<strong></strong><strong><br></strong></p><br /><hr><br /><p><strong>Festaribussiranneke</strong></p><br /><p>Festaribussirannekkeella asiakas voi ajaa koko viikonlopun ajan festaribusseilla Himoksen ja Jämsän alueella. Ilman ranneketta bussikuljetukset maksavat erikseen. Kertaliput on mahdollista ostaa vain bussista paikan päältä.<strong></strong></p><br /><p>Lisätietoa&nbsp;<a href="https://jysari.fi/info/saapuminen/">https://j</a><a></a><a href="https://jysari.fi/info/saapuminen/" target="_blank">ysari.fi/info/saapuminen</a><br></p><br /><hr><br /><p><strong>Päiväparkki</strong><br>Päiväparkissa voit<br /> pitää autoasi joko yhden päivän ja yön, tai koko tapahtuman ajan.<br>Parkkipaikalla ei voi majoittua tai yöpyä. 1 päivän parkkilipulla voi pysäköidä aina seuraavaan päivään klo 12:00 asti<em><br></em></p><br /><hr><br /><h4><strong>JYSÄRI LEIRINTÄALUE</strong></h4><br /><p>Leirintäalue on festivaaliasiakkaille suunnattu alue, jossa <strong>jokaisella alueella majoittuvalla sekä vierailevalla henkilöllä tulee olla voimassa oleva festivaalilippu majoittumispäivästä festivaalin loppuun saakka.</strong> Leirintäalueelle on myynnissä myös Yhden yön -majoituspaikkoja. Yhden yön -majoituspaikan ostaneella tulee olla festivaalilippu siksi päiväksi, jolloin henkilö saapuu majoitukseen.</p><br /><p>Majoituspaikat sen sijaan ovat paikkakohtaisia. Eli jos samassa teltassa / autossa / matkailuautossa majoittuu kolme henkilöä, tarvitsee ryhmän ostaa silti vain yksi majoituspaikka majoitusajasta huolimatta.</p><br /><p>Kirjoitathan ostotilanteessa sähköpostisi oikein, sillä pääsylipun lisäksi sinulle toimitetaan sähköisesti myös tarkemmat saapumisohjeet ja aikataulut lähempänä tapahtumaa.</p><br /><p><strong><u>Autopaikka </u></strong><br><br />Lippu sähköttömälle autopaikalle oikeuttaa tuomaan yhden henkilöauton, pakettiauton tai muun vastaavan kulkuneuvon leirintäalueelle.<br><br />Lippu on tarkoitettu auton tuomiseen telttapaikan viereen tai sen läheisyyteen.<br><br /><strong>Autopaikkalippu on tarkoitettu majoittujille ja heidän tavaroidensa säilytykseen, parkkipaikat muille asiakkaille avataan myyntiin lähempänä tapahtumaa.</strong></p><br /><p><strong><u>Telttapaikka omalle teltalle</u></strong><br><br />Telttapaikka-lipulla voi tuoda ja pystyttää oman teltan leirintäalueelle. </p><br /><p>Telttapaikkoja on saatavilla kahden kokoisena: Pieni (2x2m) & Iso (4x4m).</p><br /><p><strong><u>Jysäri Teltta</u></strong><br><br />Jysäri Teltat ovat puolijoukkuetelttamaisia, siistejä majoitusratkaisuja isommallekin kaveriporukalle! Teltta on valmiiksi pystytetty, ja se on lukittavissa.<br><br />Yhdessä teltassa majoittuu mukavasti sänkyjen kanssa 5 henkeä tai omilla patjoilla 12 henkeä. Sängyt on ostettava erikseen lisätilauksena teltan oston yhteydessä. Sänkyjä ei voi ostaa irrallisena ja yksittäin, jotta tiedämme, mihin telttaan ja kuinka monta sänkyä pystyttää.<br><br /><br><br />Jysäri teltta sisältää:<br><br />- lukon<br><br />- pystytyksen ja purun<br><br />- erillismaksusta retkisängyt, 25€/kpl<br><br />Huom! Max 5 sänkyä / teltta.<br><br /><br><br />Jysäri telttaan ei kuulu pysäköintitilaa, vaan autolle tulee ostaa erikseen parkkipaikka.<br><br />Jysäri teltta tulee luovuttaa sunnuntaina klo 12:00 mennessä siinä kunnossa, kuin se on ollut saapuessa. Teltalle aiheutuneista vahingoista peritään maksu teltan vuokraajalta.<br><br />Huom! Teltoissa ei ole lämmitystä, eikä niihin sellaista saa asentaakaan.</p><br /><p><strong><u>Premium Jysäriteltta</u></strong></p><br /><p>Koe glamping Jysärissä! Kokeile luksustelttailua ja varaa seurueellesi Premium Jysäri Teltta, joka sisältää:<br><br /><br><br />- Kahden hengen majoituksen sisustetussa luksusteltassa. Premium teltta sisältää sängyt, petivaatteet, lakanat sekä muun kalustuksen.<br><br />- Teltan pohjan pinta-ala 19m² ja keskikorkeus 3m.<br><br />- Teltan pystytyksen ja purun<br><br />- Koodilla varustetun lukon<br><br />- Pyykkinarun ja festivaalin aikana hyödyllisiä tarvikkeita<br><br />- Parkkipaikan yhdelle autolle leirintäalueelta<br><br /><br><br />Halutessasi voit majoittua teltassa myös useamman hengen voimin. Lisähenkilöt erillismaksusta: 150€/hlö. Majoittujien maximimäärä teltassa on neljä henkilöä.<br><br />Premium Jysäri teltta tulee luovuttaa sunnuntaina klo 12:00 mennessä siinä kunnossa, kuin se on ollut saapuessa. Teltalle aiheutuneista vahingoista peritään maksu teltan vuokraajalta.</p><br /><p><strong><u>Karavaanilippu</u></strong> <br><br />Karavaanilippuja on myynnissä sähköllisiä ja sähköttömiä. Karavaanilippu oikeuttaa karavaanikulkuneuvon (karavaaniauto tai karavaanivaunu ja vetoauto) tuomisen leirintäalueelle. Karavaanikulkuneuvon maximipituus on 9 metriä.<br><br /><br><br />Yhdelle karavaanipaikalle mahtuu maksimissaan joko<br><br />1) karavaanivaunu & vetoauto<br><br />tai<br><br />2) karavaanivaunu & kiinteä markiisi tai vaunun telttauraan kiinnitettävissä oleva etuteltta (jonka syvyys on maksimissaan 3 m), jolloin vetoauto tulee ajaa erilliselle pysäköintialueelle.<br><br />Huomioithan, että irralliset etuteltat, perkolat, kaiteet, pop-up-teltat, leirintäteltat, paviljongit tai muut irtonaiset teltat ja rakenteet karavaanikulkuneuvojen välissä ovat turvallisuussyistä kielletty.<br><br /><br><br />Mikäli valitset sähköllisen paikan, se sisältää yhden suko-pistorasian. Sähkö on tarkoitettu vain matkailuajoneuvon jääkaapin ja valaistuksen käyttöön. Ylimääräiset ja irralliset laitteet voivat aiheuttaa ylikuormituksen tai oikosulun. Jatkojohdot ja adapterit tulee olla majoittujalla itsellään.</p><br /><p><br><br /><strong><u>Matkaajalippu</u></strong> <br><br />Matkaajalippuja on myynnissä sähköllisiä ja sähköttömiä. Matkaajalippu oikeuttaa suurikokoisen matkailuajoneuvon kuten esimerkiksi linja-auton, matkailubussin, nightlinerin, kuorma-auton, rekasta muunnetun matkailuajoneuvon tai muun vastaavan majoituskäyttöön suunnitellun tai muokatun ajoneuvon tuomiseen leirintäalueelle. Matkaajalipun voivat ostaa myös karavaanikulkuneuvot, jotka ylittävät 9 metrin enimmäisrajan. </p><br /><p>Paikalle mahtuu kiinteästi kulkuneuvossa oleva tai sen telttauraan kiinnitettävä etuteltta tai markiisi, joka syvyys on maksimissaan 3 metriä. Irralliset etuteltat, perkolat, kaiteet, pop-up-teltat, leirintäteltat, paviljongit tai muut vastaavat teltat autojen läheisyydessä ovat turvallisuussyistä kiellettyjä.<br><br /><br><br />Mikäli valitset sähköllisen paikan niin huomiothan, että sähkö on tarkoitettu vain matkailuajoneuvon jääkaapin ja valaistuksen käyttöön, ylimääräiset ja irralliset laitteet voivat aiheuttaa ylikuormituksen tai oikosulun. Jatkojohdot ja adapterit tulee olla matkaajalla itsellään.<br><br />HUOM! Mikäli ajoneuvossa on sauna, tulee sille ostaa saunallisen ajoneuvon lippu.</p><br /><p><strong><u>Saunallisen ajoneuvon lippu</u></strong><br><br />Lippu oikeuttaa saunan sisältävän ajoneuvon tuomisen leirintäalueelle ja se sisältää sähkön. Saunallisen ajoneuvon turvallisuus tarkistetaan saavuttaessa järjestyksenvalvonnan toimesta. Myös alkusammutuskalusto tarkastetaan.<br><br />Paikalle mahtuu kiinteästi kulkuneuvossa oleva tai sen telttauraan kiinnitettävä etuteltta tai markiisi, joka syvyys on maksimissaan 3 metriä. Irralliset etuteltat, perkolat, kaiteet, pop-up-teltat, leirintäteltat, paviljongit tai muut vastaavat teltat ajoneuvojen läheisyydessä ovat turvallisuussyistä kiellettyjä.<br><br /><br><br />Paikka sisältää yhden suko-pistorasian. Sähkö on tarkoitettu vain matkailuajoneuvon jääkaapin ja valaistuksen käyttöön, ylimääräiset ja irralliset laitteet voivat aiheuttaa ylikuormituksen tai oikosulun. Jatkojohdot ja adapterit tulee olla matkaajalla itsellään.</p><br /><p><strong><u>Silent Himos</u></strong><br><br />Silent Himos alueelle majoittujat sitoutuvat noudattamaan hiljaisuutta klo 24:00-07:00 välisenä aikana ja rauhaa valvotaan tehostetusti.<br><br />Silent -alueen liput eivät eroa muuten tavallisen leirinnän paikoista.<br><br />Alueelle on ostettavissa telttapaikkoja, autopaikkoja sekä sähköttömiä karavaanipaikkoja.<br></p><br /><hr><br /><p><strong>SAAVUTETTAVUUS</strong><br></p><br /><p>Avustaja pääsee aina tapahtumaan veloituksetta, mutta avustettavan on ostettava pääsylippu. Myynnissä oleva ”Pyörätuoli + avustaja” -lippu on tarkoitettu vain pyörätuolia käyttävälle asiakkaalle. ”Asiakas + avustaja” -lippu on tarkoitettu kaikille sellaisille asiakkaille, jotka tarvitsevat avustajaa päivittäiseen toimintaansa.</p><br /><p>Mikäli VIP-asiakas tarvitsee avustajan, pääsee avustaja luonnollisesti asiakkaan mukana myös VIP-alueelle. K-18 –tapahtumassa myös avustajan tulee olla vähintään 18-vuotias.<br><br />VIP-alueella on esteetön pääsy maantasalla olevalle alueelle, sekä korotettuun telttaan. VIP-alueen kaksikerroksiseen rakennelmaan ei valitettavasti ole esteetöntä kulkua.</p><br /><p></p><br /><p><em>Lipun ostaneiden asiakkaiden yhteystiedot luovutetaan järjestäjälle tiedottamista/ohjeistamista varten.<br></em> <br /><br><strong>TURVALLISEMPI TILA</strong><br>Ostamalla lipun sitoudut turvallisemman tilan periaatteisiimme. Lue lisää nettisivuiltamme: <a href="https://nelonenmedialive.fi/turvallisempi-tila/" rel="noreferrer noopener" title="https://nelonenmedialive.fi/turvallisempi-tila/" target="_blank">https://nelonenmedialive.fi/turvallisempi-tila/</a></p> <br /><br />  Visit event in our website: <a href='https://tapahtumainfo.fi/tapahtuma/2025/07/jysari-2025/356933'>Tapahtumainfo.fi</a></body></html>
END:VEVENT
END:VCALENDAR
