BEGIN:VCALENDAR
VERSION:2.0
PRODID:-//tapahtumainfo.fi//NONSGML Porin Venetsialaiset 30.-31.8.2024 - 2 PÄIVÄN LIPPU//EN
METHOD:REQUEST
BEGIN:VEVENT
UID:20260423T114351-685318338-tapahtumainfo.fi
DTSTAMP:20260423T114351
DTSTART:20240831T020000Z
DTEND:20240831T020000Z
LOCATION:KIRJURINLUOTO
SUMMARY:Porin Venetsialaiset 30.-31.8.2024 - 2 PÄIVÄN LIPPU
DESCRIPTION:<html><head></head><body>Porin Venetsialaiset 30.-31.8.2024 - 2 PÄIVÄN LIPPU<br /><br />Porin Venetsialaiset bailataan 30.–31.8.2024  Kirjurinluoto Arenalla elokuun viimeisenä viikonloppuna. Nämä juhlat juhlitaan taatusti sateelta suojassa ja kuumissa tunnelmissa – jättimäisen iso ja lämmin tapahtumateltta takaa viihtyvyyden, pitää jalat kuivana ja fiiliksen katossa. Molemmat illat kruunaa näyttävä ilotulitus!<br /><br />Tunnelmaa nostattavat muun muassa nämä huippuesiintyjät: Erika Vikman, Modern Talking Realoaded, Movetron, Jean S., Kake Randelin ja Eini. <br /><br />  Visit event in our website: <a href='https://tapahtumainfo.fi/tapahtuma/2024/08/porin-venetsialaiset-30-31-8-2024-2-paivan-lippu/357226'>Tapahtumainfo.fi</a></body></html>
END:VEVENT
END:VCALENDAR
