BEGIN:VCALENDAR
VERSION:2.0
PRODID:-//tapahtumainfo.fi//NONSGML KUUMAA: Maasta kuuhun -kiertue//EN
METHOD:REQUEST
BEGIN:VEVENT
UID:20260424T190701-60738254-tapahtumainfo.fi
DTSTAMP:20260424T190701
DTSTART:20241102T020000Z
DTEND:20241102T020000Z
LOCATION:ESPOO METRO AREENA
SUMMARY:KUUMAA: Maasta kuuhun -kiertue
DESCRIPTION:<html><head></head><body> <br /><br />  Visit event in our website: <a href='https://tapahtumainfo.fi/tapahtuma/2024/11/kuumaa-maasta-kuuhun-kiertue/359657'>Tapahtumainfo.fi</a></body></html>
END:VEVENT
END:VCALENDAR
