BEGIN:VCALENDAR
VERSION:2.0
PRODID:-//tapahtumainfo.fi//NONSGML Nevala + KAS KAS//EN
METHOD:REQUEST
BEGIN:VEVENT
UID:20260424T190839-345636238-tapahtumainfo.fi
DTSTAMP:20260424T190839
DTSTART:20241030T020000Z
DTEND:20241030T020000Z
LOCATION:Kulttuuritehdas Korjaamo, Kulmasali
SUMMARY:Nevala + KAS KAS
DESCRIPTION:<html><head></head><body><p>Soft rock -yhtye <strong>Nevala </strong>juhlii toisen albuminsa julkaisua Korjaamon Kulmasalissa 30. lokakuuta. Albumilta julkaistut singlet ’Honky Tonk’, ’Letters to Laura’ ja ‘Whatcha Doin’ to Me’ ovat saaneet lämpimän vastaanoton suoratoistopalveluissa sekä radioaalloilla.</p><br /><p>Nevala on neljän entisen kämppäkaverin, Oliver Bentleyn, Emil Inbergin, Sakari Soukan ja Ossian Stadighin muodostama bändi, jonka musiikissa jäsenten syvä ystävyys kuuluu ja nivoutuu hedelmällisellä tavalla yhteen ajattoman laulunkirjoitustaidon ja pop-nerouden kanssa.</p><br /><p>Nevalan keikoilla sähkö purkautuu siihen, kun yksi ystävistä johdattaa kappaleen kertosäkeeseen ja muut ottavat tarvittavat pari askelta yhtyessään siihen. Ja koska he kaikki laulavat, tämä jännite syntyy kerta toisensa jälkeen uudestaan.</p><br /><p>Nevalan neljää muusikkoa säestää bändi, jossa soittavat Riku Sonkkanen, Kalle Outila ja Adeola Ikuesan.</p><br /><p><strong>KAS KAS </strong>on tuore helsinkiläinen indie pop/folk -yhtye, jonka perustivat kaksi laulaja-lauluntekijää, Iida Tallqvist ja Kare Kipinoinen. KAS KAS:n musiikissa lyyriset melodiat sulautuvat osaksi orgaanisia ja polveilevia kitarakuvioita. Kappaleet johdattelevat kuulijan matkalle melankolian ja ilon rajapinnoille.</p><br /><p>Iida Tallqvist – laulu, akustinen kitara<br>Kare Kipinoinen – sähkökitara, taustalaulu<br>Olli-Petteri Paasi – basso, taustalaulu<br>Remu Virtanen – rummut</p><br /><p><strong>Aikataulu</strong><br>KAS KAS 20:30<br>Nevala 21:30</p><br /><br /><p><strong>Liput ovelta 18 €, mikäli jäljellä.</strong></p><br /><p><strong>Eteispalvelumaksu 3,50 € peritään ovella.</strong></p><br /><p><strong>Lippujen varausaika 2 päivää.<br></strong><strong><br></strong><strong>*** <br></strong></p><br /><p><strong>Esteettömyys:</strong><br>Avustaja pääsee tapahtumaan ilmaiseksi avustettavan kanssa samalla lipulla: <strong>kyllä</strong><br>Tapahtumaan on esteetön pääsy pyörätuolilla: <strong>kyllä</strong><br>Tapahtumapaikalla on esteetön WC:<strong> <strong>kyllä</strong></strong><br>Tapahtumassa on pyörätuolikoroke:<strong> ei</strong><br>Muuta huomioitavaa:<strong> Lisätietoja voi kysyä osoitteesta <a href="mailto:info@korjaamo.fi">info@korjaamo.fi</a></strong></p> <br /><br />  Visit event in our website: <a href='https://tapahtumainfo.fi/tapahtuma/2024/10/nevala-kas-kas/363701'>Tapahtumainfo.fi</a></body></html>
END:VEVENT
END:VCALENDAR
