BEGIN:VCALENDAR
VERSION:2.0
PRODID:-//tapahtumainfo.fi//NONSGML Maaliskuun Musta Messu//EN
METHOD:REQUEST
BEGIN:VEVENT
UID:20260424T190639-1115314820-tapahtumainfo.fi
DTSTAMP:20260424T190639
DTSTART:20250315T180000Z
DTEND:20250315T020000Z
LOCATION:FINLANDIA-KLUBI, Sibeliustalo
SUMMARY:Maaliskuun Musta Messu
DESCRIPTION:<html><head></head><body>Maaliskuun Musta Messu<br /><br /><br /><br />Finlandia-klubi, Sibeliustalo<br />Esityspäivä ja kellonaika: 15.3. klo 18<br />Ovet: 17.30<br /><br />Tapahtuman kesto n. 6h<br />Ikäraja: -S- <br /><br />  Visit event in our website: <a href='https://tapahtumainfo.fi/tapahtuma/2025/03/maaliskuun-musta-messu/366032'>Tapahtumainfo.fi</a></body></html>
END:VEVENT
END:VCALENDAR
