BEGIN:VCALENDAR
VERSION:2.0
PRODID:-//tapahtumainfo.fi//NONSGML Stand Up Lahti kevät 2025//EN
METHOD:REQUEST
BEGIN:VEVENT
UID:20260419T161712-106899961-tapahtumainfo.fi
DTSTAMP:20260419T161712
DTSTART:20250111T020000Z
DTEND:20250111T020000Z
LOCATION:Pikkuteatteri
SUMMARY:Stand Up Lahti kevät 2025
DESCRIPTION:<html><head></head><body><p>Stand Up Lahti on Lahden Pikkuteatterissa järjestettävä stand up -klubi, jonka ohjelmiston on suunnitellut stand up -koomikko Jukka Lindström. Keväällä 2025 nähdään taas liuta hauskoja esityksiä.<u><br></u></p><br /><p><u>Tammikuussa 11.1.</u> <strong><em>Stand Upin Deadline</em></strong> -esityksessä nähdään <strong><strong></strong>Jukka Lindström, Joni Matias Koivuniemi & Ida Grönlund</strong><strong></strong>. Tässä ns. work in progress -esityksessä Koivuniemi ja Lindström kehittelevät uusia juttujaan. Tule katsomaan miten koomikot koeponnistavat maailmaan uusia vitsejä ja tarinoita. <u><br></u></p><br /><p><u>Maaliskuussa 22.3.</u> Pikkuteatteriin saapuu work in progress- esitys, jossa nähdään <strong>Köpi Kallion</strong> <strong><em>Huono suoritus</em></strong> -sooloesityksen harjoitusversio. Iltaa isännöi <strong>Jukka Lindström.</strong> <u><br></u></p><br /><p><u>Huhtikuussa (19.4.)</u> Stand Up Lahti -klubilla nähdään <strong>Anders Heleniuksen</strong> sooloesitys nimeltä <strong><em>Jotain tekemistä</em></strong>. <br>Esitys kertoo siitä, miten käy kun ruuhkavuosien jälkeen on yhtäkkiä aikaa ajatella asioita kuten elämän tarkoitusta, rakkautta, kuolemaa, unettomuutta terveystarkastuksia, roboottileikkureita, kuntosalitreeniä, ja yleisesti sitä, miksi me kaikki olemme vähintään vähän hukassa. <br><em><strong><br></strong></em><em><strong>Noin viikon studion</strong></em> (Yle TV 1) juontajanakin tunnettu Anders Helenius on tehnyt stand upia  yli 20 vuotta. Hänen käsikirjoittamansa satiiriohjelmat <em><strong>Noin viikon uutiset </strong>ja <strong>Kovan viikon ilta</strong></em> ovat voittaneet yhteensä 4 Kultaista Venlaa.</p><br /><p><u>Toukokuussa 24.5.</u> Stand Up Lahden valloittavat <strong>Matti Paalanen</strong>, <strong>Pietari Vihula</strong> ja <strong>Leo Viking Holmström</strong>.  <br>Sukupolvensa kolme kovinta koomikkoa yhdistää voimansa stand up -showssa nimeltö <strong><em>Kaksi maitoa ja yksi piimä</em>. </strong><br>Luvassa on aito, kokeellista, rohkeaa, älykästä ja pöhköä komiikka. Tällaista et tiennyt suomalaisen stand upin voivan olla!<br></p><br /><br /><p>Kaikki esitykset kestävät 1,5-2 tuntia väliajan kanssa. Ravintola <br />Tirra palvelee yleisöä Pikkuteatterin yhteydessä ennen showta ja myös <br />väliajalla.</p><br /><p>Paikat ovat numeroimattomia istumapaikkoja. Varausaika 2 päivää.</p><br /><p>Liput ovelta ennen esitystä 30 €. <br></p><br /><p><strong>Esteettömyys:</strong><br><br />Avustaja pääsee tapahtumaan ilmaiseksi avustettavan kanssa samalla lipulla: <strong>kyllä</strong><br><br />Tapahtumaan on esteetön pääsy pyörätuolilla: <strong>Teatterisaliin pääsee esteettömästi Rautatienkatu 3:n sisäpihan kautta henkilöhissillä</strong>. <br>Tapahtumapaikalla on esteetön WC: <strong>kyllä</strong><br><br />Pyörätuolia käyttävää tai erityistä avustusta tarvitsevaa asiakasta <br />pyydetään olemaan etukäteen yhteydessä sujuvan sisäänpääsyn <br />varmistamiseksi: <strong>kyllä, info@komediapaja.fi </strong></p> <br /><br />  Visit event in our website: <a href='https://tapahtumainfo.fi/tapahtuma/2025/04/stand-up-lahti-kevat-2025/370926'>Tapahtumainfo.fi</a></body></html>
END:VEVENT
END:VCALENDAR
