BEGIN:VCALENDAR
VERSION:2.0
PRODID:-//tapahtumainfo.fi//NONSGML Haapamäki - rautatiekylä keskellä Suomea virtuaalinäyttely//EN
METHOD:REQUEST
BEGIN:VEVENT
UID:20260425T133803-1818566648-tapahtumainfo.fi
DTSTAMP:20260425T133803
DTSTART:20241125T020000Z
DTEND:20501231T020000Z
LOCATION:Keuruun museo
SUMMARY:Haapamäki - rautatiekylä keskellä Suomea virtuaalinäyttely
DESCRIPTION:<html><head></head><body>Haapamäki, Rautatiekylä keskellä Suomea -näyttely esittelee Haapamäen rautatieyhteisön elämää 1800-luvun lopulta ja rautatieaseman yli satavuotista historiaa suomalaisen yhteiskunnan kehityksessä. Haapamäestä kehittyi merkittävä matkustajaliikenteen ja logistiikan keskus, ja rautatieläisyyden perintö näkyy kylässä edelleen elävän museotoiminnan kautta.<br> Lämpimästi tervetuloa!<br><br>Pääset näyttelyyn tältä sivulta:<br>https://digimuseo.fi/nayttelyt/haapamaki-rautatiekyla-keskella-suomea/ <br /><br />  Visit event in our website: <a href='https://tapahtumainfo.fi/tapahtuma/2024/11/haapamaki-rautatiekyla-keskella-suomea-virtuaalinayttely/372415'>Tapahtumainfo.fi</a></body></html>
END:VEVENT
END:VCALENDAR
