BEGIN:VCALENDAR
VERSION:2.0
PRODID:-//tapahtumainfo.fi//NONSGML Näyttelykeskus WeeGee Lahjakortti//EN
METHOD:REQUEST
BEGIN:VEVENT
UID:20260425T203045-1690067008-tapahtumainfo.fi
DTSTAMP:20260425T203045
DTSTART:20261231T235900Z
DTEND:20261231T020000Z
LOCATION:Näyttelykeskus WeeGee
SUMMARY:Näyttelykeskus WeeGee Lahjakortti
DESCRIPTION:<html><head></head><body><b>Tervetuloa WeeGeelle!</b><br><br>WeeGee toimii professori Aarno Ruusuvuoren (1925-1992) suunnittelemassa entisessä Weilin&Göösin kirjapainotalossa Tapiolassa.<br><br>Näyttelykeskuksessa on kaksi museota: EMMA – Espoon modernin taiteen museo ja Espoon kaupunginmuseo KAMU. Lisäksi nähtävillä on Mauri Kunnaksen työtä ja elämää esittelevä Mauri Kunnas -näyttely. WeeGeessä toimii myös museokauppa EMMA Shop ja Cafe WeeGee. WeeGeen takapihalla on arkkitehti Matti Suurosen suunnittelema Futuro-talo, joka on avoinna yleisölle toukokuun puolesta välistä syyskuun puoleen väliin.<br><br>WeeGee tarjoaa kävijöilleen inspiraatioita ja elämyksiä ympäri vuoden!<br><br>Myynnissä olevat WeeGeen lippulahjakortit (valitse lahjakortteja ostaessasi oikean arvoinen lahjakortti lahjan saajan mukaan):<br><br>Yli 29-vuotiaat 20 €<br>Alennusryhmät 10 €<br><br>Alennettu 10 €:n hinta koskee kaikkia alle 29-vuotiaita, opiskelijoita, eläkeläisiä, siviilipalvelus- ja varushenkilöitä, opettajia ja työttömiä.<br>Lipun voi aina ostaa myös suoraan lipunmyynnistä ilman ennakkovarausta.<br><br>Maksuton sisäänpääsy alle 18-vuotiaille, sota- ja rintamaveteraaneille, lotille, sotainvalideille, kriisinhallintaveteraaneille, henkilökohtaisille avustajille, ICOM-kortin haltijoille sekä tuntia valmisteleville opettajille, joilla voimassa oleva ryhmävaraus. Maksuton sisäänpääsy myös Museokortilla, Kaikukortilla, Helsinki-kortilla ja Pressikortilla. Maksuttomat liput saat WeeGeen lipunmyynnistä.<br><br>Lipunmyynti ja sisäänpääsy päättyy puoli tuntia ennen näyttelykeskuksen sulkeutumista. Reput, isot laukut, sateenvarjot, vesipullot sekä paksut ja märät takit tulee jättää säilytykseen.<br><br>Lippu.fi verkkokaupasta ja myyntipisteistä ostettu lahjakorttilippu vaihdetaan päiväkohtaiseen lippuun Näyttelykeskus WeeGeen lipunmyynnissä. Lahjakortti on voimassa vuoden ostopäivästä.<br><br>Aukioloajat<br>Ti, la, su klo 11–17<br>Ke, to, pe klo 11–19<br>Perjantaisin ilmainen sisäänpääsy klo 15–19.<br><br>Lisätietoa: <a href="https://www.espoo.fi/fi/tule-meille" target="_blank">Tule meille | Espoon kaupunki</a> <br /><br />  Visit event in our website: <a href='https://tapahtumainfo.fi/tapahtuma/2026/12/nayttelykeskus-weegee-lahjakortti/373166'>Tapahtumainfo.fi</a></body></html>
END:VEVENT
END:VCALENDAR
