BEGIN:VCALENDAR
VERSION:2.0
PRODID:-//tapahtumainfo.fi//NONSGML Viking Fest 2025//EN
METHOD:REQUEST
BEGIN:VEVENT
UID:20260422T200851-1965917321-tapahtumainfo.fi
DTSTAMP:20260422T200851
DTSTART:20250308T020000Z
DTEND:20250308T020000Z
LOCATION:Vesileppis Areena
SUMMARY:Viking Fest 2025
DESCRIPTION:<html><head></head><body><p>Savon Vahvin Viikinki -kilpailut saavat ansaitsemansa jatkobileet Vesileppis Areenalla kun illan jatkoille tulevat esiintymään lähialueen kovassa nousussa olevat Bätfish ja Evil Asteroid. Illan kruunaa tunnetusti kovalla Etelä-Karjalan asenteella operoiva Kotiteollisuus. Tule nauttimaan mukaansa tempaavasta rytmimusiikista sekä tapaamaan päivän kilpailujen sankareita.</p><br /><br /><p>Liput ovelta 33 €, mikäli jäljellä.<br></p><br /><br /><p>Ryhmävaraukset: sales@vesileppis.fi</p><br /><p><strong>Esteettömyys:</strong><br><br>Avustaja pääsee tapahtumaan ilmaiseksi avustettavan kanssa samalla lipulla: <strong>kyllä</strong><br>Tapahtumaan on esteetön pääsy pyörätuolilla: <strong>kyllä</strong><br>Tapahtumapaikalla on esteetön WC: <strong>kyllä<br></strong>Tapahtumassa on pyörätuolikoroke: <strong>kyllä<br></strong></p> <br /><br />  Visit event in our website: <a href='https://tapahtumainfo.fi/tapahtuma/2025/03/viking-fest-2025/375112'>Tapahtumainfo.fi</a></body></html>
END:VEVENT
END:VCALENDAR
