BEGIN:VCALENDAR
VERSION:2.0
PRODID:-//tapahtumainfo.fi//NONSGML Kertomuksia kaupungista - Riihimäen kaupunginmuseon perusnäyttely//EN
METHOD:REQUEST
BEGIN:VEVENT
UID:20260424T112444-1364616232-tapahtumainfo.fi
DTSTAMP:20260424T112444
DTSTART:20251201T020000Z
DTEND:20500101T020000Z
LOCATION:Riemu-museot
SUMMARY:Kertomuksia kaupungista - Riihimäen kaupunginmuseon perusnäyttely
DESCRIPTION:<html><head></head><body>Perusnäyttelyyn kuuluu niin digitaalista aineistoa kuin aika-ajoin vaihtuvaa esineistöä ja muuta aineistoa. Näyttely aukeaa loppuvuodesta 2025. <br /><br />  Visit event in our website: <a href='https://tapahtumainfo.fi/tapahtuma/2025/12/kertomuksia-kaupungista-riihimaen-kaupunginmuseon-perusnayttely/376199'>Tapahtumainfo.fi</a></body></html>
END:VEVENT
END:VCALENDAR
