BEGIN:VCALENDAR
VERSION:2.0
PRODID:-//tapahtumainfo.fi//NONSGML Naulakkomaksu 3€/hlö: Jussi Simola Stand Up Show//EN
METHOD:REQUEST
BEGIN:VEVENT
UID:20260422T194127-1934627098-tapahtumainfo.fi
DTSTAMP:20260422T194127
DTSTART:20251011T200000Z
DTEND:20251011T020000Z
LOCATION:Pohjankartanon salin naulakko
SUMMARY:Naulakkomaksu 3€/hlö: Jussi Simola Stand Up Show
DESCRIPTION:<html><head></head><body> <br /><br />  Visit event in our website: <a href='https://tapahtumainfo.fi/tapahtuma/2025/10/naulakkomaksu-3-hlo-jussi-simola-stand-up-show/376609'>Tapahtumainfo.fi</a></body></html>
END:VEVENT
END:VCALENDAR
