BEGIN:VCALENDAR
VERSION:2.0
PRODID:-//tapahtumainfo.fi//NONSGML Jiri Nikkinen The Beatles Tribute Band//EN
METHOD:REQUEST
BEGIN:VEVENT
UID:20260424T193511-1218116371-tapahtumainfo.fi
DTSTAMP:20260424T193511
DTSTART:20250222T020000Z
DTEND:20250222T020000Z
LOCATION:Studio Villatehdas
SUMMARY:Jiri Nikkinen The Beatles Tribute Band
DESCRIPTION:<html><head></head><body><h2><strong>La 22.2.2025 Villatehtaan Livemusaklubille saapuu Jiri Nikkinen The Beatles Tribute Band!</strong><strong><br></strong></h2><br /><p><strong>Jiri Nikkinen The Beatles Tribute Band </strong>on erikoistunut The Beatlesin unohtumattomaan tuotantoon lisäten joukkoon muutakin aikakauden parasta musiikkia. Tämä kansainvälistäkin tunnustusta saanut ryhmä vie kuulijansa sixties-aikamatkalle Beatlesien Hampurin vuosista Abbey Roadin kautta aina Liverpooliin, rakkauden kesään -67 ja Lontoon Savile Rowlle saakka.<br> <br>Yhtye on esiintynyt useilla keikoilla Liverpoolin BeatleWeekillä, esimerkiksi Adelphi-hotellin pääkonsertissa ja tehnyt yhteiskonsertin Tony Sheridanin kanssa. Bändi keikkailee jatkuvasti niin kotimaassa kuin ulkomaillakin ja sen musiikki on kaikille universaalin tuttua ikään tai kansallisuuteen katsomatta.<br> <br>Livemusaklubilla on a-oikeudet. Pikkupurtavan kera voit siis nauttia vaikkapa viiniä tai muita talon monipuolisesta tarjonnasta löytyviä juomia!<br> <br>Hyvät Beatle-fanit, All You need is Love... and Good Music – nähdään Villatehtaan Livemusaklubilla!</p><br /><p><a href="https://www.facebook.com/profile.php?id=61565477175489" target="_blank">Villatehtaan Livemusaklubi</a></p><br /><p><a href="https://www.tresbonpalvelut.fi/palvelut/#livemusa" target="_blank">Bar Trèsbon</a></p><br /><br /><p>Peruslippu vaihdetaan livemusaklubin ovella rannekkeeseen klo 18:00 alkaen kun ovet avataan.</p><br /><p></p><br /><p>Eteispalvelu ei kuulu keikkalipun hintaan. Eteispalvelusta veloitamme<br /> paikan päällä 3,50 €. Suosittelemme jättämään päällysvaatteet ja suuret<br /> laukut narikkaan turvallisuussyistä.<br></p><br /><p>Liput ovelta 35 €, mikäli jäljellä.<br> </p><br /><p><strong>Saapumisohje</strong><br></p><br /><p>Villatehtaan Livemusaklubi sijaitsee Hyvinkään Villatehtaan <br />sisäpihalla (vasemmalla puolella kaupungin keskustasta päin katsottuna) <br />B9 rapussa. Tila tunnettiin ennen Studio Donnerina mutta on nimetty <br />uudelleen Studio Villatehtaaksi.</p><br /><p><strong>Esteettömyys</strong></p><br /><p>Avustaja pääsee tapahtumaan ilmaiseksi avustettavan kanssa samalla <br />lipulla. Tapahtumaan on esteetön pääsy pyörätuolilla, Studio <br />Villatehtaalle pääsee ramppia pitkin. Tapahtumapaikalla on esteetön wc. </p><br /><p>Pyörätuolia käyttävää tai erityistä avustusta tarvitsevaa asiakasta <br />pyydetään olemaan etukäteen yhteydessä sujuvan sisäänpääsyn <br />varmistamiseksi: info@tresbonpalvelut.fi</p><br /><p></p> <br /><br />  Visit event in our website: <a href='https://tapahtumainfo.fi/tapahtuma/2025/02/jiri-nikkinen-the-beatles-tribute-band/377584'>Tapahtumainfo.fi</a></body></html>
END:VEVENT
END:VCALENDAR
