BEGIN:VCALENDAR
VERSION:2.0
PRODID:-//tapahtumainfo.fi//NONSGML Agnes Meyer-Brandis: Kun puut vaeltavat//EN
METHOD:REQUEST
BEGIN:VEVENT
UID:20260422T222418-1414650659-tapahtumainfo.fi
DTSTAMP:20260422T222418
DTSTART:20250412T020000Z
DTEND:20260503T020000Z
LOCATION:Serlachius Kartano
SUMMARY:Agnes Meyer-Brandis: Kun puut vaeltavat
DESCRIPTION:<html><head></head><body>Agnes Meyer-Brandis (s. 1973) on tarkkaillut pitkÃ¤Ã¤n puita, metsiÃ¤ ja ilmakehÃ¤Ã¤, joissa tapahtuvat monimutkaiset ja erikoiset ilmiÃ¶t voisivat ilman hÃ¤nen taidettaan jÃ¤Ã¤dÃ¤ helposti huomaamatta. Vaeltavat puut, metsien vÃ¤ri ja puiden erittÃ¤mÃ¤t tuoksut ovat esimerkkejÃ¤ aiheista, joita Meyer-Brandis on tutkinut taiteellisesti ja dialogissa luonnontieteilijÃ¶iden kanssa Suomessa ja koko maailmassa. <br><br>HedelmÃ¤llinen yhteistyÃ¶ IlmastopyÃ¶rre-taideohjelman ja Helsingin yliopiston Pirkanmaalla sijaitsevan HyytiÃ¤lÃ¤n metsÃ¤aseman kanssa alkoi vuonna 2013. NÃ¤yttelyssÃ¤ saa maailman ensi-iltansa monikanavainen videoteos Vaeltava puu, joka on kuvattu 2021â2024 RuovedellÃ¤, suojellulla Siikanevan suolla. NÃ¤yttelyn kuraattori on Ulla Taipale. <br /><br />  Visit event in our website: <a href='https://tapahtumainfo.fi/tapahtuma/2025/04/agnes-meyer-brandis-kun-puut-vaeltavat/380137'>Tapahtumainfo.fi</a></body></html>
END:VEVENT
END:VCALENDAR
