BEGIN:VCALENDAR
VERSION:2.0
PRODID:-//tapahtumainfo.fi//NONSGML THE MUSIC OF HANS ZIMMER//EN
METHOD:REQUEST
BEGIN:VEVENT
UID:20260420T172844-981358357-tapahtumainfo.fi
DTSTAMP:20260420T172844
DTSTART:20250921T190000Z
DTEND:20250921T020000Z
LOCATION:Finlandia-talo
SUMMARY:THE MUSIC OF HANS ZIMMER
DESCRIPTION:<html><head></head><body><b>The Music of Hans Zimmer -konsertit yli kymmeneen suomalaiskaupunkiin</b><br><br><b>Kansainvälinen nuorten ammattimuusikoiden La Chapelle Sauvage -orkesteri saapuu syyskuussa Suomeen The Music of Hans Zimmer -konserttinsa kanssa. Joensuussa, Mikkelissä, Porissa, Oulussa, Kuopiossa, Jyväskylässä, Hyvinkäällä, Tampereella, Ylivieskassa, Lahdessa, Turussa ja Helsingissä kuultavissa konserteissa kuullaan hieno valikoima kuuluisan säveltäjän rakastetuimpia kappaleita. Karel De Wilden johtaman orkesterin solistina laulaa lahjakas belgialainen sopraano Louise Kuyvenhoven. </b><br><br>Suomessa syyskuussa järjestettävissä The Music of Hans Zimmer –konserteissa kuullaan filmimusiikin rakastetuimpia klassikoita Suomessa ensimmäistä kertaa vierailevan belgialaisen La Chapelle Sauvage -orkesterin esittämänä. Nuorista ammattimuusikoista koostuvaa orkesteria johtaa sen perustaja Karel De Wilde ja konsertin solistina laulaa sopraano Louise Kuyvenhoven, joka on poikkeuksellisen lahjakkaana muusikkona valittu osaksi maailman arvostetuimpiin musiikkiakatemioihin lukeutuvan Queen Elisabeth Music Chapelin erityiseen koulutusohjelmaan. Belgian kansallisoopperassakin esiintynyt Louise on myös ranskalaisen Lyon Opéra Studion jäsen.<br><br>Konsertin kappalevalikoima rakentuu lukemattomia palkintoja Oscarista kahteen Golden Globeen ja neljään Grammyyn voittaneen Hans Zimmerin sävellyksistä. Konsertissa kuullaan kappaleita mm. elokuvista Da Vinci –koodi (The Da Vinci Code), Gladiaattori (Gladiator), Inception, Interstellar, Kung Fu Panda, Leijonakuningas (The Lion King), Pirates of the Caribbean -sarja ja Sherlock Holmes.<br><br>Konsertit järjestetään intiimeissä saleissa, joissa musiikillista elämystä tukee videoscreeneiltä näytettävät pätkät elokuvista sekä valokuvat elokuvien aikakaudelta.<br><br><b>THE MUSIC OF HANS ZIMMER</b><br>La Chapelle Sauvage (BE)<br>Kapellimestarinan Karel De Wilde ja solistinaan Louise Kuyvenhoven<br><br>Ke 10.9.2025 Joensuu, Carelia-sali<br>To 11.9.2025 Mikkeli, Mikaeli<br>Pe 12.9.2025 Pori, Promenadisali<br>La 13.9.2025 Oulu, Madetojan sali<br>Su 14.9.2025 Kuopio, Musiikkikeskus<br>Ma 15.9.2025 Jyväskylä, Paviljonki<br>Ti 16.9.2025 Hyvinkääsali*<br>Ke 17.9.2025 Tampere-talo, iso sali<br>La 20.9.2025 Turku, konserttitalo<br>Su 21.9.2025 Helsinki, Kulttuuritalo (siirtynyt Finlandia-talolta)<br><br>Konsertin kesto 2 x 45 min<br>Konsertit alkavat klo 19.00<br><br><b>Liput:</b><br>Lippujen hinnat alkaen 59,90 €<br><br>Järjestäjä: Gramopop Oy, paitsi *Hyvinkään-konsertin järjestää Hyvinkääsali<br><br><a href="www.lachapellesauvage.be" target="_blank">www.lachapellesauvage.be</a> <br /><br />  Visit event in our website: <a href='https://tapahtumainfo.fi/tapahtuma/2025/09/the-music-of-hans-zimmer/380906'>Tapahtumainfo.fi</a></body></html>
END:VEVENT
END:VCALENDAR
