BEGIN:VCALENDAR
VERSION:2.0
PRODID:-//tapahtumainfo.fi//NONSGML Guns N’ Roses: 2025//EN
METHOD:REQUEST
BEGIN:VEVENT
UID:20260422T194948-1698625727-tapahtumainfo.fi
DTSTAMP:20260422T194948
DTSTART:20250707T020000Z
DTEND:20250707T020000Z
LOCATION:RATINAN STADION
SUMMARY:Guns N’ Roses: 2025
DESCRIPTION:<html><head></head><body>Guns N’ Roses: Because What You Want & What You Get Are Two Completely Different Things<br /><br />Historian merkittävimpiin rock-yhtyeisiin lukeutuva Guns N' Roses on tänään julkistanut vuoden 2025 massiivisen Because What You Want & What You Get Are Two Completely Different Things -kiertueensa. Lähi-itään ja Eurooppaan suuntautuvalla kiertueella yhtye esiintyy stadioneilla ja kesäfestivaaleilla. Suomessa Axl Rosen luotsaama yhtye nähdään Tampereen Ratinan stadionilla maanantaina 7.7.2025. Lämmittelijänä toimii Public Enemy. <br /><br />  Visit event in our website: <a href='https://tapahtumainfo.fi/tapahtuma/2025/07/guns-n-roses-2025/383001'>Tapahtumainfo.fi</a></body></html>
END:VEVENT
END:VCALENDAR
