BEGIN:VCALENDAR
VERSION:2.0
PRODID:-//tapahtumainfo.fi//NONSGML Atomirotta//EN
METHOD:REQUEST
BEGIN:VEVENT
UID:20260422T114108-1886863510-tapahtumainfo.fi
DTSTAMP:20260422T114108
DTSTART:20250523T020000Z
DTEND:20250523T020000Z
LOCATION:Pensselitehdas
SUMMARY:Atomirotta
DESCRIPTION:<html><head></head><body><h3>Ystävänpäivänä 2014 perustettu <strong>Atomirotta </strong>on alusta asti seurannut vanhaa hienoa viisautta: tekemällä oppii! <br></h3><br /><p>Yhtye on pitänyt aina langat täysin omissa käsissään ja vaalinut tiukasti hienoa DIY-perinnettä. Kymmenen vuotta, viisi albumia, lukuisia kulta- ja platinasinkkuja, oma levy-yhtiö, ohjelmatoimisto ja verkkokauppa sekä satoja räjäyttäviä keikkoja ennakkoluulottomasti kuumilta lähiö-klubeilta aina suurimmille festarilavoille,&nbsp;joilla on sementoitu maine yhtenä maamme kovimmista ja tinkimättömimmistä live-bändeistä.</p><br /><p>Atomijuna jyskyttää entistä voimakkaammin eteenpäin oikealla, omannäköisellä kurssillaan ja me, Rane, Mikko ja Juuso heitetään hiiliä pesään ja pidetään vaunut raiteilla! <br></p><br /><p>Pysykää mukana!</p><br /><br /><p>Atomirotta: <a href="https://www.atomirotta.com" target="_blank">www</a></p><br /><br /><p><strong>Liput ovelta, mikäli jäljellä.</strong></p><br /><p><strong>Narikka omalla vastuulla.<br></strong></p><br /><p><strong><a href="https://www.pensselitehdas.fi" target="_blank">Saapumisohjeet tapahtumapaikalle näet Pensselitehtaan sivuilta.</a></strong></p><br /><p>***<br></p><br /><p><strong>ESTEETTÖMYYS:</strong></p><br /><ul><li>Avustaja pääsee tapahtumaan ilmaiseksi avustettavan kanssasamalla lipulla: <strong>KYLLÄ</strong></li><li>Tapahtumaan on esteetön pääsy pyörätuolilla: <strong>KYLLÄ</strong></li><li>Tapahtumapaikalla on esteetön WC: <strong>KYLLÄ</strong></li><li>Tapahtumapaikalla on mahdollisuus induktiosilmukan käyttöön: <strong>EI</strong></li><li>Tapahtumassa on pyörätuolikoroke: <strong>EI</strong></li><li>Pyörätuolia<br /> käyttävää tai erityistä avustusta tarvitsevaaasiakasta pyydetään <br />olemaan etukäteen yhteydessä sujuvan sisäänpääsyn varmistamiseksi: <strong>KYLLÄ </strong><strong>(info@pensselitehdas.fi)</strong></li></ul> <br /><br />  Visit event in our website: <a href='https://tapahtumainfo.fi/tapahtuma/2025/05/atomirotta/383230'>Tapahtumainfo.fi</a></body></html>
END:VEVENT
END:VCALENDAR
