BEGIN:VCALENDAR
VERSION:2.0
PRODID:-//tapahtumainfo.fi//NONSGML KuPS kausikortit ja liput 2025//EN
METHOD:REQUEST
BEGIN:VEVENT
UID:20260424T190205-2144045237-tapahtumainfo.fi
DTSTAMP:20260424T190205
DTSTART:20250401T020000Z
DTEND:20250401T020000Z
LOCATION:Väre Areena
SUMMARY:KuPS kausikortit ja liput 2025
DESCRIPTION:<html><head></head><body><h2>KuPS kausikortit & kauden 2025 kotiottelut nyt myynnissä! <br></h2><br /><h3>VEIKKAUSLIIGA KOTIOTTELUT</h3><br /><p>La 12.4.2025 klo 19:23 KuPS - AC Oulu<br>La 19.4.2025 klo 19:00 KuPS - FF Jaro<br>Ke 23.4.2025 klo 18:00 KuPS - IFK Mariehamn<br>Pe 2.5.2025 klo 20:00 KuPS - SJK<br>La 10.5.2025 klo 15:00 KuPS - KTP<br>Su 25.5.2025 klo 16:00 KuPS - VPS<br>La 14.6.2025 klo 19:00 KuPS - Ilves<br>Pe 27.6.2025 klo 20:00 KuPS - HJK<br>Ti 1.7.2025 klo 18:00 KuPS - IF Gnistan<br>La 2.8.2025 klo 17:00 <strong>/</strong> Su 3.8.2025 klo 17:00 KuPS - FC Haka<em> (ottelupäivä varmistuu myöhemmin)</em><br>La 16.8.2025 klo 17:00 <strong>/</strong> Su 17.8.2025 klo 17:00 KuPS - FC Inter<em><em> (ottelupäivä varmistuu myöhemmin)</em></em><br></p><br /><h3>KANSALLINEN LIIGA KOTIOTTELUT</h3><br /><p>La 26.4.2025 klo 17:00 KuPS - HJK<br>La 3.5.2025 klo 16:00 KuPS - PK-35 Vantaa<br>La 24.5.2025 klo 19:00 KuPS - Åland United<br>La 14.6.2025 klo 14:30 KuPS - HPS<br>La 12.7.2025 klo 15:00 KuPS - PK-35 <em>(HUOM! Ottelu pelataan Lapinlahden Valio Areenalla)</em><br>La 19.7.2025 klo 15:00 KuPS - JyPK<br>La 2.8.2025 <strong>/</strong> 3.8.2025 klo 17:00 KuPS - VIFK <em>(HUOM! Ottelupäivä varmistuu lähempänä)</em></p><br /><hr><br /><p>Tarkemman otteluinfon löydät KuPS:n sivuilta: <a href="https://kups.fi" target="_blank">kups.fi</a></p><br /><p>***</p><br /><h3><strong>Ottelulipun lunastus voucherilla<br></strong></h3><br /><p>Jos sinulla on KuPS:n voucher kaudelle 2025. Lunastathan lippusi alla olevien linkkien kautta!<br><strong>HUOM! Valitse linkki sen mukaan minkälainen sarjakortti sinulla on.</strong><br></p><br /><p><strong><a href="https://www.tiketti.fi/kups/paakatsomo" target="_blank">Voucher: Pääkatsomo</a><br></strong><strong><strong><a href="https://www.tiketti.fi/kups/osumaklubi" target="_blank">Voucher: Osuma Klubi VIP</a><br></strong></strong><strong><strong><strong><a href="https://www.tiketti.fi/kups/dgsupervip" target="_blank">Voucher: DG Super VIP<br><strong></strong></a><strong><a href="https://www.tiketti.fi/kups-voucher/kansallinenliiga" target="_blank">Voucher: Kansallinen liiga</a></strong></strong></strong></strong><br></p><br /><p>Pääkatsomon voucher käy ainoastaan pääkatsomon paikoille.<br>DG Super VIP voucher käy ainoastaan DG Super VIP -paikoille D- ja E-katsomoissa.<br>Osuma Klubi VIP -voucher käy kaikille paikoille.</p><br /><p><strong>HUOM! Voucherit käyvät runkosarjan lisäksi loppusarjan otteluissa.</strong></p><br /><p>Veikkausliigan kausikortti sisältää pääsyn kaikkiin Veikkausliigan sekä Kansallisen Liigan ottelutapahtumiin.<strong><strong></strong></strong><br>Kansallisen liigan kausikortti sisältää pääsyn kaikkiin Kansallisen Liigan ottelutapahtumiin.<strong><br></strong></p><br /><br /><p><strong>Lipun hinnat pysyvät samoina koko myynnin ajan.<br>Ovella liput +5 €.</strong><br></p><br /><p><strong>Varaudu turvatarkastuksiin. Tule ajoissa paikalle. Kameravalvonta.</strong><br></p><br /><p>***</p><br /><p><strong>Lipun ostaneiden asiakkaiden tiedot kerätään ja luovutetaan järjestäjälle myöhempää ohjeistamista ja tiedottamista varten</strong><br></p> <br /><br />  Visit event in our website: <a href='https://tapahtumainfo.fi/tapahtuma/2025/04/kups-kausikortit-ja-liput-2025/383402'>Tapahtumainfo.fi</a></body></html>
END:VEVENT
END:VCALENDAR
