BEGIN:VCALENDAR
VERSION:2.0
PRODID:-//tapahtumainfo.fi//NONSGML Sirkus Finlandia - KUOPIO//EN
METHOD:REQUEST
BEGIN:VEVENT
UID:20260419T170638-1662571897-tapahtumainfo.fi
DTSTAMP:20260419T170638
DTSTART:20250701T190000Z
DTEND:20250701T020000Z
LOCATION:SIRKUS FINLANDIA
SUMMARY:Sirkus Finlandia - KUOPIO
DESCRIPTION:<html><head></head><body><!DOCTYPE html><br /><html lang="fi"><br /><head><br />    <meta charset="UTF-8"><br />    <meta name="viewport" content="width=device-width, initial-scale=1.0"><br />    <title>Sirkus Finlandia</title><br /></head><br /><body><br />    <h1>Sirkus Finlandia</h1><br />    <p>Sirkus Finlandia on Suomen kansallissirkus, joka tunnetaan monipuolisista ja korkeatasoisista esityksistään.</p><br /><br />    <h2>Vuoden 2025 Kiertue</h2><br />    <p>Vuoden 2025 kiertueaikataulu on julkaistu, ja lipunmyynnin ennakko alkaa lauantaina 1. maaliskuuta 2025 Ticketmasterin kautta. Huomioithan, että Helsingin esitysten lipunmyynti alkaa myöhemmin.</p><br />    <p>Kiertue kattaa laajasti Suomen eri paikkakuntia. Esimerkiksi kiertue alkaa Karjaalta 18. huhtikuuta ja jatkuu muun muassa Lohjan, Kotkan, Lahden, Oulun, Rovaniemen, Kuopion, Turun ja Tampereen kautta.</p><br />    <p>Helsingissä esitykset pidetään Käpylän urheilupuistossa, koska perinteinen paikka Kaisaniemen puistossa on remontissa vuoden 2025 loppuun asti.</p><br /><br />    <h2>Ohjelma ja Esitykset</h2><br />    <p>Vaikka vuoden 2025 ohjelman yksityiskohtia ei ole vielä julkaistu, aiempien vuosien perusteella Sirkus Finlandian esitykset sisältävät huikeaa akrobatiaa, vauhdikkaita numeroita, huumoria ja taikuutta. Vuoden 2024 ohjelmassa nähtiin muun muassa ukrainalaisia BMX-pyörätemppuilijoita, kotimaiset ilma-akrobaatit Duo Pauliina ja Sara sekä australialainen miekannielijä Lucy Hell.</p><br /><br />    <p>Suosittelemme seuraamaan Sirkus Finlandian virallisia kanavia saadaksesi ajantasaisimmat tiedot vuoden 2025 ohjelmasta ja lipunmyynnistä.</p><br /></body><br /></html> <br /><br />  Visit event in our website: <a href='https://tapahtumainfo.fi/tapahtuma/2025/07/sirkus-finlandia-kuopio/383549'>Tapahtumainfo.fi</a></body></html>
END:VEVENT
END:VCALENDAR
