BEGIN:VCALENDAR
VERSION:2.0
PRODID:-//tapahtumainfo.fi//NONSGML Hiihdon mm-kisat 2025//EN
METHOD:REQUEST
BEGIN:VEVENT
UID:20260423T185348-1301576659-tapahtumainfo.fi
DTSTAMP:20260423T185348
DTSTART:20250226T020000Z
DTEND:20250309T020000Z
LOCATION:Trondheim
SUMMARY:Hiihdon mm-kisat 2025
DESCRIPTION:<html><head></head><body><p>Hiihdon MM-kisat 2025 järjestetään Norjan Trondheimissa 26.2 – 9.3 2025. Kilpailuissa kilpaillaan maastohiihdon, mäkihypyn ja yhdistetyn lajeissa. Ensimmäinen kilpailupäivä on torstaina 27. helmikuuta, jolloin ohjelmassa ovat vapaan hiihtotavan sprintit sekä yhdistetyn ja mäkihypyn karsintakilpailut.</p><p></p><p>Suomen joukkueeseen kuuluu yhteensä 35 urheilijaa: 21 maastohiihtäjää (9 naista ja 12 miestä), 7 yhdistetyn urheilijaa (2 naista ja 5 miestä) sekä 7 mäkihyppääjää (2 naista ja 5 miestä).</p><pdata-start="134" data-end="688">Maastohiihdossa Iivo Niskanen on perinteisen tyylin spesialisti ja arvokisamitalisti, joka on erityisen vahva 15 km perinteisen matkalla. Kerttu Niskanen on puolestaan pitkien matkojen hiihtäjä, joka taistelee mitaleista erityisesti 10 km perinteisen kisassa. Johanna Matintalo on hyvä sprintteri ja vahva myös normaalimatkoilla, etenkin perinteisen hiihtotavan kilpailuissa. Perttu Hyvärinen on tuttu arvokisakävijä, joka voi yllättää hyvällä kunnolla, ja Joni Mäki on Suomen sprinttitykki, jolla on potentiaalia pärjätä erityisesti vapaan sprintissä. Iivo on ollut sairaana, mutta toivottavasti tervehtyy kisoihin.<p></p><p>Yhdistetyssä Ilkka Herola on Suomen ykkösmies, jolla on mahdollisuudet taistella mitaleista erityisesti vahvan hiihto-osuutensa ansiosta. Eero Hirvonen on kokenut yhdistetyn kilpailija, joka voi olla hyvässä iskussa Trondheimissa.</p><p>Mäkihypyssä Antti Aalto on Suomen kärkinimi, jolla on mahdollisuudet yltää kymmenen parhaan joukkoon hyvänä päivänä. Jenny Rautionaho on naismäkihypyn ykkösnimi, joka on esittänyt hyviä otteita maailmancupissa.</p><p>Suomen joukkueessa on monia potentiaalisia menestyjiä, mutta paljon riippuu kisakunnosta ja olosuhteista. Ketä aiot itse seurata erityisen tarkasti?</p><p></p><p>Kisojen tapahtumat lähetetään Suomessa laajasti Ylen kanavilla, mukaan lukien Yle TV2 ja Yle Areena.</p></pdata-start="134"> <br /><br />  Visit event in our website: <a href='https://tapahtumainfo.fi/tapahtuma/2025/02/hiihdon-mm-kisat-2025/383664'>Tapahtumainfo.fi</a></body></html>
END:VEVENT
END:VCALENDAR
