BEGIN:VCALENDAR
VERSION:2.0
PRODID:-//tapahtumainfo.fi//NONSGML Taru sormusten herrasta: Kaksi tornia//EN
METHOD:REQUEST
BEGIN:VEVENT
UID:20260423T114233-903712523-tapahtumainfo.fi
DTSTAMP:20260423T114233
DTSTART:20250506T180000Z
DTEND:20250506T215900Z
LOCATION:Kinopalatsi, Turku, ISENSE
SUMMARY:Taru sormusten herrasta: Kaksi tornia
DESCRIPTION:<html><head></head><body>Vuoden 2002 elokuvan klassikkonäytös - EXTENDED EDITION. Englanniksi, EI TEKSTITYSTÄ. Liput tähän leffaan alk. 10€, premium-saleissa lisämaksu.<br /><br />Tarina jatkuu seurueen jouduttua erilleen. Frodo ja Sam ovat matkalla kohti Mordoria vaarallisten soitten poikki. He saavat matkalleen apua yllättävältä, mutta erittäin epäluotettavalta taholta. Sormus käy yhä raskaammaksi Frodon lähestyessä Sauronin palavaa silmää.<br /><br />Toisaalla, Merri ja Pippin ovat joutuneet Örkkien vangeiksi ja heitä kuljetetaan kohti Rautapihaa Sarumanin huostaan. Aragorn, Gimli ja Legolas lähtevät Hobittien perään. Rohanin ratsastajat, Entit ja Gandalf Valkoinen ilmestyvät kuvioihin ja käydään Helmin syvänteen legendaarinen taistelu. <br /><br />  Visit event in our website: <a href='https://tapahtumainfo.fi/tapahtuma/2025/05/taru-sormusten-herrasta-kaksi-tornia/390108'>Tapahtumainfo.fi</a></body></html>
END:VEVENT
END:VCALENDAR
