BEGIN:VCALENDAR
VERSION:2.0
PRODID:-//tapahtumainfo.fi//NONSGML Helatorstain takakonttikirppis//EN
METHOD:REQUEST
BEGIN:VEVENT
UID:20260424T225610-820856713-tapahtumainfo.fi
DTSTAMP:20260424T225610
DTSTART:20260514T020000Z
DTEND:20260514T020000Z
LOCATION:Suomen maatalousmuseo Sarka
SUMMARY:Helatorstain takakonttikirppis
DESCRIPTION:<html><head></head><body>Saavu museolle helatorstaina 14.5.2026 tekemÃ¤Ã¤n lÃ¶ytÃ¶jÃ¤ tai myymÃ¤Ã¤n pois vanhoja aarteitasi!<br><br>Takakonttikirppis on avoinna klo 10-14. PÃ¤ivÃ¤n aikana museon nÃ¤yttelyihin pÃ¤Ã¤see tutustumaan puoleen hintaan ja ravintolassa on tarjolla lounas klo 11-15.<br><br>Haluatko myyjÃ¤ksi?<br>Takakonttikirppis -tapahtumaan pÃ¤Ã¤see mukaan myyjÃ¤ksi ennakkoilmoittautumisen kautta. Ilmoittautuminen on avoinna 11.5. asti tai niin kauan kun paikkoja riittÃ¤Ã¤.<br><br>Myyntipaikan hinta on 15 â¬. Halutessasi voit lunastaa itsellesi tuplapaikan 30 â¬ hintaan. <br>Tarkemmat ohjeet saat ilmoittautumisen yhteydessÃ¤.<br><br>Varaa myyntipaikka Takakonttikirppikselle ottamalla yhteyttÃ¤:<br>info@sarka.fi<br>02 763 7700 <br /><br />  Visit event in our website: <a href='https://tapahtumainfo.fi/tapahtuma/2026/05/helatorstain-takakonttikirppis/390489'>Tapahtumainfo.fi</a></body></html>
END:VEVENT
END:VCALENDAR
