BEGIN:VCALENDAR
VERSION:2.0
PRODID:-//tapahtumainfo.fi//NONSGML Kulttuuritalon naulakkomaksu 4€/hlö: THE CHER COLLECTION//EN
METHOD:REQUEST
BEGIN:VEVENT
UID:20260422T145057-2129146688-tapahtumainfo.fi
DTSTAMP:20260422T145057
DTSTART:20260428T190000Z
DTEND:20260428T020000Z
LOCATION:Kulttuuritalon naulakkomaksut
SUMMARY:Kulttuuritalon naulakkomaksu 4€/hlö: THE CHER COLLECTION
DESCRIPTION:<html><head></head><body> <br /><br />  Visit event in our website: <a href='https://tapahtumainfo.fi/tapahtuma/2026/04/kulttuuritalon-naulakkomaksu-4-hlo-the-cher-collection/391013'>Tapahtumainfo.fi</a></body></html>
END:VEVENT
END:VCALENDAR
