BEGIN:VCALENDAR
VERSION:2.0
PRODID:-//tapahtumainfo.fi//NONSGML Lutakon Lippa LIVE: PEHMOAINO + VESTA//EN
METHOD:REQUEST
BEGIN:VEVENT
UID:20260420T113038-18860626-tapahtumainfo.fi
DTSTAMP:20260420T113038
DTSTART:20250816T180000Z
DTEND:20250816T020000Z
LOCATION:Lutakko
SUMMARY:Lutakon Lippa LIVE: PEHMOAINO + VESTA
DESCRIPTION:<html><head></head><body><b>La 16.8.2025 Lutakon Lippa: PEHMOAINO + VESTA</b><br>Ovet klo 18:00<br>Ei ikärajaa / Rajattu anniskelualue K18<br>Saattajat veloituksetta saatettavan kanssa. <br /><br />  Visit event in our website: <a href='https://tapahtumainfo.fi/tapahtuma/2025/08/lutakon-lippa-live-pehmoaino-vesta/391049'>Tapahtumainfo.fi</a></body></html>
END:VEVENT
END:VCALENDAR
