BEGIN:VCALENDAR
VERSION:2.0
PRODID:-//tapahtumainfo.fi//NONSGML Adelaide//EN
METHOD:REQUEST
BEGIN:VEVENT
UID:20260425T190141-1798012209-tapahtumainfo.fi
DTSTAMP:20260425T190141
DTSTART:20250515T020000Z
DTEND:20270418T020000Z
LOCATION:Hangon museo
SUMMARY:Adelaide
DESCRIPTION:<html><head></head><body>Hangon museo sai 1990-luvulla lahjana ainutlaatuisen pukukokoelman, johon kuului naistenpukuja kuuden sukupolven ajalta. Suvun naiset olivat ratkoneet puvut osiin ja kÃ¤Ã¤rineet ne sanomalehtipaperiin. Sanomalehtipaperi piti tuholaiset loitolla ja kankaat litteinÃ¤. Omalaatuisen sÃ¤ilytystavan ansiosta nÃ¤mÃ¤ tÃ¤rkeÃ¤n osan kulttuurihistoriaa muodostavat puvut ovat sÃ¤ilyneet hyvin.<br><br>Ihastu Adelaide Indreniuksen suvun naisten ja miesten historiallisiin pukuihin. Adelaiden tytÃ¤r Tekla Ekestubbe ja tyttÃ¤rentytÃ¤r Dordi Sundblom sÃ¤ilyttivÃ¤t huolellisesti kuusi sukupolvea tekstiilejÃ¤,ja tÃ¤tÃ¤ uniikkia kokonaisuuttaa tullaan esittelemÃ¤Ã¤n kahden vuoden vÃ¤lein muuttuvilla kokonaisuuksilla Hangon museossa. Tervetuloa tutustumaan kÃ¤sityÃ¶n ja muodin historiaan. <br /><br />  Visit event in our website: <a href='https://tapahtumainfo.fi/tapahtuma/2025/05/adelaide/393719'>Tapahtumainfo.fi</a></body></html>
END:VEVENT
END:VCALENDAR
