BEGIN:VCALENDAR
VERSION:2.0
PRODID:-//tapahtumainfo.fi//NONSGML Inkeri Julkunen ja muita naivisteja//EN
METHOD:REQUEST
BEGIN:VEVENT
UID:20260420T090006-1358380068-tapahtumainfo.fi
DTSTAMP:20260420T090006
DTSTART:20250607T020000Z
DTEND:20501019T020000Z
LOCATION:Pohjanmaan museo
SUMMARY:Inkeri Julkunen ja muita naivisteja
DESCRIPTION:<html><head></head><body>âNaivisti olen ja siksi kai jÃ¤Ã¤nkinâ â Inkeri Julkunen<br><br>Naivismi vakiintuneena taidetyylinÃ¤ on monipuolinen. Sen ilmaisumuodot vaihtelevat aiheen, tyylin ja tekniikan suhteen. Taiteilijat ovat joko itseoppineita tai kouluttautuneita taiteilijoita. Yleisesti ottaen naivismi on kertovaa, vÃ¤rikÃ¤stÃ¤ ja humoristista taidetta. Taiteilijoilla on inhimillinen ote elÃ¤mÃ¤Ã¤n ja kuvattuihin asioihin.<br><br>Vaasalainen Inkeri Julkunen (1935â2017) alkoi maalata itseoppineena taiteilijana 1970-luvulta lÃ¤htien. Naivismi tyylisuuntana viehÃ¤tti hÃ¤ntÃ¤ ja se esitetÃ¤Ã¤n hÃ¤nen taiteellisen tuotantonsa avulla laajemmin Vaasan museoissa. NÃ¤yttelyÃ¤ tÃ¤ydentÃ¤Ã¤ valikoima teoksia valtakunnallisesti merkittÃ¤viltÃ¤ aikalaisilta:  Martti Innanen (1931â2014), Alice Kaira (1913â2006), Lea Kauppi (1917â1999) Pirkko LepistÃ¶ (1922â2005) ja Tuomas MÃ¤ntynen (1932â2024).<br><br>NÃ¤yttely esittelee taiteilijan tuotantoa 1970-luvulta aina 1990-luvulle saakka. Se sisÃ¤ltÃ¤Ã¤ ennen kaikkea Ã¶ljy- ja akryylimaalauksia sekÃ¤ joitakin veistoksia. Julkunen maalasi usein lÃ¤hiympÃ¤ristÃ¶Ã¤Ã¤n, joten hÃ¤nen teoksiinsa on sÃ¤ilynyt tuttuja kaupunkinÃ¤kymiÃ¤ Vaasasta ja KarperÃ¶n ympÃ¤ristÃ¶stÃ¤. Taiteilija kuvasi lÃ¤mmÃ¶llÃ¤ ihmisiÃ¤ tutuissa arkiaskareissaan, leikin lumossa tai vapaa-ajan vietossa. NÃ¤yttelyn on tuottanut Vaasan museot ja sen on kuratoinut amanuenssi Janna SirÃ©n. <br /><br />  Visit event in our website: <a href='https://tapahtumainfo.fi/tapahtuma/2025/06/inkeri-julkunen-ja-muita-naivisteja/394302'>Tapahtumainfo.fi</a></body></html>
END:VEVENT
END:VCALENDAR
