BEGIN:VCALENDAR
VERSION:2.0
PRODID:-//tapahtumainfo.fi//NONSGML Soiton paikka: Élégance//EN
METHOD:REQUEST
BEGIN:VEVENT
UID:20260422T114517-228986077-tapahtumainfo.fi
DTSTAMP:20260422T114517
DTSTART:20250625T190000Z
DTEND:20250625T020000Z
LOCATION:Keuruun uusi kirkko
SUMMARY:Soiton paikka: Élégance
DESCRIPTION:<html><head></head><body> <br /><br />  Visit event in our website: <a href='https://tapahtumainfo.fi/tapahtuma/2025/06/soiton-paikka-l-gance/395035'>Tapahtumainfo.fi</a></body></html>
END:VEVENT
END:VCALENDAR
