BEGIN:VCALENDAR
VERSION:2.0
PRODID:-//tapahtumainfo.fi//NONSGML Tubecon 2026//EN
METHOD:REQUEST
BEGIN:VEVENT
UID:20260420T073357-1916805923-tapahtumainfo.fi
DTSTAMP:20260420T073357
DTSTART:20260509T100000Z
DTEND:20260509T020000Z
LOCATION:LOGOMO-sali
SUMMARY:Tubecon 2026
DESCRIPTION:<html><head></head><body><b>Tubecon valloittaa Turun jälleen toukokuussa!</b><br><br>Suomen suurin vaikuttajatatapahtuma Tubecon järjestetään Turun Logomossa lauantaina 9.5.2026. Koko perheen tapahtumassa fanit pääsevät kohtaamaan suosikkivaikuttajat livenä. <br><br>Lavaohjelman lisäksi tarjolla on Meet & Greet -tilaisuuksia, joissa fanit pääsevät tapaamaan suosikkitubettajiaan!<br><br>Ensimmäiset vaikuttajat ja aikataulu julkaistaan vuoden 2025 aikana.<br><br>Tapahtumapäivä:<br>Ovet aukeavat klo 10.00 ja tapahtuma päättyy klo 19.00.<br><br>Ohjelma täydentyy alkuvuoden aikana ja tarkemmat aikataulut julkaistaan lähempänä tapahtumaa osoitteessa https: <a href=" https://tubecon.fi/" target="_blank">https://tubecon.fi/</a> sekä Tubeconin somekanavissa. Löydät myös vastaukset useimmiten kysyttyihin kysymyksiin osoitteesta <a href=" https://tubecon.fi/" target="_blank">https://tubecon.fi/</a><br><br>HUOM!<br><br>Tubecon-pääsylippu oikeuttaa sisäänpääsyn tapahtumaan ja seuraamaan koko päiväksi upeaa ja hauskaa lavaohjelmaa sekä fiilistelemään ainutlaatuista tunnelmaa. Pääsylippu EI takaa automaattisesti Meet & Greet -kohtaamista oman suosikkivaikuttajan kanssa. Tubeconissa järjestettävät Meet & Greet -tilaisuudet kestävät noin tunnin ja ovat yleensä erittäin suosittuja. Jokaiseen Meet & Greet -tilaisuuteen mahtuu noin 300 henkilöä jonotusperiaatteella.<br><br>Tapahtumanjärjestäjä – Suomen Tubetapahtumat Oy – varaa oikeuden mahdollisiin muutoksiin. <br /><br />  Visit event in our website: <a href='https://tapahtumainfo.fi/tapahtuma/2026/05/tubecon-2026/395307'>Tapahtumainfo.fi</a></body></html>
END:VEVENT
END:VCALENDAR
