BEGIN:VCALENDAR
VERSION:2.0
PRODID:-//tapahtumainfo.fi//NONSGML Jiri Nikkinen The Beatles Tribute Band//EN
METHOD:REQUEST
BEGIN:VEVENT
UID:20260424T193502-545051849-tapahtumainfo.fi
DTSTAMP:20260424T193502
DTSTART:20250918T190000Z
DTEND:20250918T020000Z
LOCATION:Järvenpää-talo, Sibelius-sali
SUMMARY:Jiri Nikkinen The Beatles Tribute Band
DESCRIPTION:<html><head></head><body>Esitettyään kaikki viralliset The Beatlesin levyt alusta loppuun albumiteemaisissa konserteissa, Jiri Nikkinen the Beatles Tribute Bandin tuleva konsertti on vuorostaan läpileikkaus The Beatlesin koko tuotannosta. Luvassa on hittejä, harvinaisuuksia ja singlejä!<br><br>Tule kokemaan maan johtavan The Beatlesiin keskittyneen yhtyeen taidokkaasti esittämä musiikillinen aikamatka, jossa melodiat, lauluharmoniat ja pieteetillä hiotut sovitukset herättävät maailman merkittävimmän yhtyeen musiikin henkiin!<br><br>The Beatles forever! <br /><br />  Visit event in our website: <a href='https://tapahtumainfo.fi/tapahtuma/2025/09/jiri-nikkinen-the-beatles-tribute-band/396359'>Tapahtumainfo.fi</a></body></html>
END:VEVENT
END:VCALENDAR
