BEGIN:VCALENDAR
VERSION:2.0
PRODID:-//tapahtumainfo.fi//NONSGML Sondheim: Sweeney Todd//EN
METHOD:REQUEST
BEGIN:VEVENT
UID:20260425T225752-1254883873-tapahtumainfo.fi
DTSTAMP:20260425T225752
DTSTART:20260108T183000Z
DTEND:20260108T020000Z
LOCATION:Tampere-talo, Iso sali
SUMMARY:Sondheim: Sweeney Todd
DESCRIPTION:<html><head></head><body><p>  <b>Sweeney Todd – Fleet Streetin paholaisparturi </b><br>Kauhumusikaalin   konserttiversio Iso sali, Tampere-talo<br><br></p><p>  <b>Esitykset</b><br><br></p><p>  To 8.1.2026 klo 18.30<br>Pe 9.1.2026 klo 18.30<br>La 10.1.2026 klo 15<br><br></p><p>  Konsertin kesto on n. 2 tuntia 45 minuuttia sisältäen väliajan. Teos   esitetään suomeksi.</p><p>  Sweeney Todd sisältää kohtauksia, jotka eivät välttämättä sovi   herkemmille katsojille. Suosittelemme esitystä yli 12-vuotiaille.<br><br></p><p>  <b>Liput</b><br><br></p><p>  Perusliput <b>70/60/55 € </b><br>Eläkeläiset<b>   66,50/56,50/51,50 € </b><br>Lapset ja nuoret (16 v. asti) sekä   opiskelijat<b> 25 €</b><br><br></p><p>  Varauduthan esittämään alennuslippuun oikeuttavan todistuksen (esim.   opiskelijakortti) Tampere-talon henkilökunnalle. Yli 10 hengen ryhmät   voivat laittaa sähköpostia osoitteeseen ryhmamyynti@tampere-talo.fi tai   soittaa puh. +358 3 243 4501 (ma–pe klo 10–16).<br><b><br></b></p><p>  <b>Erikoiserä: Lavaliput rouva Lovettin piirakkakapakkaan (K18)</b><br><br></p><p>  Lavalippu (sis. piirakkatarjoilun) <b>40 € </b><br>Lippu näytökseen<br>Paikka   etunäyttämön lavastetusta kapakasta<br>Piirakka (liha tai   kasvis, myös gluteeniton saatavilla)<br><br></p><p>  Haluatko maustaa musikaalielämyksesi ikimuistoiseksi? Osta liput rouva   Lovettin torakoita vilisevään piirakkakapakkaan keskelle lavan   kammottavimpia tapahtumia! Erikoislipun hintaan kuuluu piirakkatarjoilu.<br><br></p><p>  Lavapaikoilla katsojat istuvat Ison salin etunäyttämölle lavastetuissa   kapakkapöydissä selkänojattomilla puupenkeillä. Huomioithan, että   lavapaikat eivät ole esteettömiä, laulajat ja orkesteri ovat   lähietäisyydellä ja katsomiskulma on alaviistosta.<br><br></p><p>  Lavalippuja on tarjolla vain kourallinen kuhunkin näytökseen, joten   pidäthän kiirettä. Liput ovat numeroimattomia. Henkilökuntamme opastaa   yleisön pöytiin ennen esityksen alkua.<br><br></p><p>  Juomatarjoilu ei sisälly lipun hintaan. Pöytiin on mahdollista tilata   erikseen alkoholillisia ja alkoholittomia juomia henkilökunnaltamme.   Anniskelun vuoksi lavapaikoilla voivat istua ainoastaan yli 18-vuotiaat   katsojat.<br><br></p><p>  <b>Tiesitkö, että tässä esityksessä voit nauttia virvokkeita katsomossa!</b><br><br></p><p>  Esityksessä on K18-alueena Ison salin aitiot A ja B. Aitioihin lipun   ostanut voi viedä mukanaan katsomoon joko ennen esitystä tai väliajalla   ostamansa juoman. Huomioithan, että anniskelukatsomon 18 vuoden ikäraja   on ehdoton, joten alaikäiset eivät pääse katsomoon.<br><br></p><p>  <b>Tampereen Ooppera esittää Sweeney Todd -kauhumusikaalin   konserttiversion – pääosissa laulavat Ville Rusanen ja Maria Ylipää</b><br><br></p><p>  <b>Tampereen Ooppera esittää Stephen Sondheimin modernin   musikaaliklassikon Sweeney Todd – Fleet Streetin paholaisparturi   ohjattuna ja visualisoituna konserttiversiona Tampere-talossa. Kiehtova   tarina kostosta ja piirakoista kuullaan Juice Leskisen suomennoksilla   Ison salin lavalla kolmen esityksen verran 8.–10. tammikuuta 2026.</b><br><br></p><p>  <b>Stephen Sondheimin</b> (1930–2021) säveltämä ja sanoittama ja <b>Hugh   Wheelerin</b> (1912–1987) käsikirjoittama Sweeney Todd (alkuperäiseltä   nimeltään Sweeney Todd: The Demon Barber of Fleet Street) on   viktoriaaniseen Lontooseen sijoittuva nykyaikainen   kauhukomediaklassikko, joka kertoo verisen tarinan asiakkaitaan   murhaavasta parturista. Teos käsittelee koston teemoja mustan huumorin   keinoin.<br><br></p><p>  Musikaali on kiehtonut yleisöjä ja kriitikoita siitä lähtien, kun se sai   ensi-iltansa Broadwaylla vuonna 1979. Teos voitti ilmestyessään   kahdeksan Tony-palkintoa sekä parhaan musikaalin Olivier-palkinnon.   Vuoden 2007 elokuvasovituksen ohjasi <b>Tim Burton</b>, ja pääosissa   näyttelivät <b>Johnny Depp</b> ja <b>Helena Bonham Carter</b>.<br><br></p><p>  Suomessa musikaali on esitetty aiemmin vuonna 1997 Kansallisoopperassa,   jossa suosittu teos keräsi 38 esityskerran aikana yli 41 000 katsojaa.   Suomalaisen käännöksen teki legendaarinen laulaja-lauluntekijä <b>Juice   Leskinen</b> (1950–2006). Myös Tampereella Sweeney Todd -konsertit   esitetään Leskisen suomennoksilla.<br><br></p><p>  Tampereen visualisoidun konserttiversion ohjaa <b>Tuomas Parkkinen</b>.   Puvut suunnittelee <b>Anna Sinkkonen</b> ja valot <b>Ville Syrjä</b>.   Tampere Filharmonian 50-henkistä orkesteria johtaa <b>Eeva Kontu</b>.   Kostonhimoisen parturin nimiroolin laulaa <b>Ville Rusanen</b>, ja   Lontoon epäilyttävimpiä piirakoita leipovan rouva Lovettin roolin laulaa <b>Maria   Ylipää</b>. Tuotantoa varten koottua Tampereen Oopperan   ensemblekuoroa valmentavat <b>Heikki Liimola</b> ja <b>Kalle Ruusukallio</b>.<br><br></p><p>  ”Sondheimin mestariteoksessa, Sweeney Todd'issa, yhdistyvät kaikki ne   ainekset, mitä teatterissa arvostan ja miksi innostun työstäni:   yllättävä tarina, särmikkäät henkilöt, nokkelat laululyriikat,   hyräiltävät melodiat ja rikas orkestraatio. Plussaa ovat myös   viktoriaaninen aikakausi ja makaaberit tapahtumat. Sweeney Todd on älyä   ja sydäntä hivelevä, nerokas musikaalitrilleri. Sen ohjaaminen on   unelmieni täyttymys”, kertoo ohjaaja Tuomas Parkkinen.<br><b><br></b></p><p>  <b>Tekijät</b><br><br></p><p>  Musiikki ja laulujen sanat <b>Stephen Sondheim </b><br>Libretto <b>Hugh   Wheeler </b><br>Suomennos <b>Juice Leskinen</b></p><p>  Ohjaus <b>Tuomas Parkkinen</b> <br>Musiikinjohto <b>Eeva Kontu </b><br>Kuoron   valmennus <b>Heikki Liimola</b> ja <b>Kalle Ruusukallio </b><br>Puvut <b>Anna   Sinkkonen</b> <br>Valot <b>Ville Syrjä</b><br><br></p><p>  Tampere Filharmonia<br>Tampereen Oopperan kuoro<br><br></p><p>  Alkuperäissovitus <b>Christopher Bond </b><br>Alkuperäinen   Broadway-ohjaus <b>Harold Prince Orkestrointi Jonathan Tunick   Alkuperäiset Broadway-tuottajat Richard Barr, Charles Woodward, Robert   Fryer, Mary Lea Johnson, Martin Richards</b>, yhteistyössä <b>Dean</b>   ja <b>Judy Manosin</b> kanssa<br><br></p><p>  Sweeney Todd esitetään Music Theatre Internationalin (MTI) myöntämällä   erityisluvalla ja toimittamilla virallisilla esitysmateriaaleilla.   Lisätiedot: www.mtishows.com<br><br></p><p>  Esityksen video- tai äänitallentaminen on ehdottomasti kielletty.<br><br></p><p>  Jane ja Aatos Erkon säätiö on tukenut Tampere-talon ooppera- ja   kamarimusiikkitoiminnan kehittämistä vuosina 2024–2025.<br><br></p><p>  Tuotanto: Tampereen Ooppera	</p> <br /><br />  Visit event in our website: <a href='https://tapahtumainfo.fi/tapahtuma/2026/01/sondheim-sweeney-todd/396362'>Tapahtumainfo.fi</a></body></html>
END:VEVENT
END:VCALENDAR
