BEGIN:VCALENDAR
VERSION:2.0
PRODID:-//tapahtumainfo.fi//NONSGML Tahko Oktoberfest 2025//EN
METHOD:REQUEST
BEGIN:VEVENT
UID:20260425T190331-1926998328-tapahtumainfo.fi
DTSTAMP:20260425T190331
DTSTART:20250926T020000Z
DTEND:20250926T020000Z
LOCATION:Tahko Piazza
SUMMARY:Tahko Oktoberfest 2025
DESCRIPTION:<html><head></head><body><h2>Piazzan ja Break Sokos Hotel Tahkon piha-alueella sijaitsevassa jättiteltassa juhlitaan Tahkon perinteistä Oktoberfestiä 26.-27.09.2025!</h2><br /><p>On jälleen aika kaivaa lederhosenit, Dirndl -mekot, hatut ja tanssikengät kaapista ja suunnata Tahkon syksyiseen syleilyyn koko viikonlopun ajaksi!</p><br /><p>Oktoberfestiä juhlitaan Break Sokos Hotel Tahkon ja Piazzan piha-alueella sijaitsevassa jättiteltassa, jossa viihdytään baijerilaisruuan ja mallasjuomien parissa, huippuviihteen vauhdittamana. Teltta on avoinna molempina päivinä klo 18-00, jonka jälkeen ilta jatkuu Piazzassa.</p><br /><p><u><strong>AIKATAULU:</strong></u><br></p><br /><p>PERJANTAI<br>18:00 ovet auki<br>19:00 Teflon Brothers<br>20:45 Sauerkraut7<br>22:30 Komiat</p><br /><br /><br /><p>Viralliset jatkot Piazzan sisällä, bilebändi DeeStyle klo 00.00&nbsp;</p><br /><p> LAUANTAI<br>18:00 ovet auki<br>19:00 Martti Servo & Napanderklo <br>20:45 Sauerkraut7<br>22:30 Frederik & Dynamite Band</p><br /><br /><p>Viralliset jatkot Piazzan sisällä, bilebändi DeeStyle klo 00.00 </p><br /><br /><p>Voit valita lippusi oheen baijerilaisen buffetruokailun. Ruokailu aukeaa valittavaksi, kun valitset ensin haluamasi lipputyypin.<br></p><br /><p><strong>Tapahtuma järjestetään Tahko Piazzan edustalla teltassa.</strong></p><br /><p><em>Piazza Tahko pidättää oikeuden ohjelmisto- ja aikataulumuutoksiin.</em><br></p> <br /><br />  Visit event in our website: <a href='https://tapahtumainfo.fi/tapahtuma/2025/09/tahko-oktoberfest-2025/397509'>Tapahtumainfo.fi</a></body></html>
END:VEVENT
END:VCALENDAR
