BEGIN:VCALENDAR
VERSION:2.0
PRODID:-//tapahtumainfo.fi//NONSGML Savoy-teatteri vaatesäilytys HUHTIKUU26//EN
METHOD:REQUEST
BEGIN:VEVENT
UID:20260422T220457-611034743-tapahtumainfo.fi
DTSTAMP:20260422T220457
DTSTART:20260430T235900Z
DTEND:20260430T020000Z
LOCATION:Savoy-teatteri
SUMMARY:Savoy-teatteri vaatesäilytys HUHTIKUU26
DESCRIPTION:<html><head></head><body>www.savoyteatteri.fi <br /><br />  Visit event in our website: <a href='https://tapahtumainfo.fi/tapahtuma/2026/04/savoy-teatteri-vaatesailytys-huhtikuu26/398222'>Tapahtumainfo.fi</a></body></html>
END:VEVENT
END:VCALENDAR
