BEGIN:VCALENDAR
VERSION:2.0
PRODID:-//tapahtumainfo.fi//NONSGML Stand Up Komediapaja//EN
METHOD:REQUEST
BEGIN:VEVENT
UID:20260420T173220-2091228795-tapahtumainfo.fi
DTSTAMP:20260420T173220
DTSTART:20250830T020000Z
DTEND:20250830T020000Z
LOCATION:Musiikkiteatteri Kapsäkki
SUMMARY:Stand Up Komediapaja
DESCRIPTION:<html><head></head><body><p>Suomen hauskimmat koomikot kokoontuvat kerran kuussa tunnelmalliseen teatteriin Helsingin Vallilassa. Koomikko<strong> Jukka Lindströmin</strong> perustamalla Komediapaja-klubilla nähdään pääesiintyjinä stand upin kärkinimiä. Teatteri Kapsäkissä lisänauruja takovat lavakomiikan mielenkiintoisimmat hahmot ja lahjakkaimmat tulokkaat. <br></p><br /><p><strong><u>OHJELMISTO:<br></u></strong><strong><u></u></strong><br><strong>La 30.8. klo 18:00<br></strong>Köpi Kallio, Huono suoritus -shown kenraaliharjoitus <strong>(Huom! Ei väliaikaa.)<br></strong><strong><br><strong>La 30.8. klo 20:30</strong></strong><br>Köpi Kallio, Jukka Lindström, Joel Makengo, Marjut Ollitervo & Leo Viking Holmström<strong></strong><br></p><br /><p><strong>La 27.9. klo 18.00<br></strong>Heli Sutela, Heikki Vilja, Pietari Vihula & Amir Amokrane<br></p><br /><p><strong>La 25.10. klo 18.00<br></strong>Ali Jahangiri, Tommi Mujunen, Aurora Vasama & Joonas Ranta<br></p><br /><p><strong>La 13.12. klo 18.00<br></strong>Jukka Lindström, Tommi Mujunen, Illusia Sarvas & Joel Makengo<br></p><br /><p><strong>La 31.1. klo 18.00<br></strong>Fathi Ahmed, Heikki Vilja, Salla Avelin, Miksu Pellikka & Happeningfish<br></p><br /><p><strong>La 28.2. klo 18.00<br></strong>André Wickström & muita.<br></p><br /><p><strong>La 28.3. klo 18.00<br></strong>Esiintyjät ilmoitetaan myöhemmin.<br></p><br /><p><strong>La 25.4. klo 18.00<br></strong>Esiintyjät ilmoitetaan myöhemmin.<br></p><br /><p><strong>La 23.5. klo 18.00<br></strong>Esiintyjät ilmoitetaan myöhemmin.<br><br></p><br /><p>Viime hetken muutokset ovat mahdollisia!</p><br /><p><a href="https://www.facebook.com/tuntematonkoomikko">www.facebook.com/tuntematonkoomikko</a><br><a href="https://www.instagram.com/jukkalindstrom">www.instagram.com/jukkalindstrom</a></p><br /><br /><p><strong>Ovet aukeavat 30 min ennen esityksen alkua. </strong></p><br /><p><strong>Ravintola Bistro K palvelee teatterin yhteydessä ennen esitystä ja väliajalla.<br></strong></p><br /><p><strong>Esityksen kesto noin 1,5 tuntia sisältäen väliajan.</strong></p><br /><p><em>Puhelinpalvelun kautta varausaika 2 päivää.  </em><strong><br></strong></p><br /><p>***</p><br /><p><strong>Esteettömyystiedot:</strong></p><br /><p>Avustaja pääsee ilmaiseksi. Tapahtumassa on estettön pääsy pyörätuolille ja inva-wc. Pyörätuolikoroketta ei ole.<br>Pyörätuoliasiakkaan tulee olla yhteydessä tapahtumapaikkaan sähköpostitse osoitteeseen: <a href="mailto:info@kapsakki.fi">info@kapsakki.fi</a></p> <br /><br />  Visit event in our website: <a href='https://tapahtumainfo.fi/tapahtuma/2025/08/stand-up-komediapaja/400470'>Tapahtumainfo.fi</a></body></html>
END:VEVENT
END:VCALENDAR
