BEGIN:VCALENDAR
VERSION:2.0
PRODID:-//tapahtumainfo.fi//NONSGML Banned From Utopia (USA), Mavon Safia//EN
METHOD:REQUEST
BEGIN:VEVENT
UID:20260421T061306-618303849-tapahtumainfo.fi
DTSTAMP:20260421T061306
DTSTART:20261021T020000Z
DTEND:20261021T020000Z
LOCATION:Tavastia-klubi
SUMMARY:Banned From Utopia (USA), Mavon Safia
DESCRIPTION:<html><head></head><body><p><strong>Keikka on siirtynyt.<br>Uusi keikkapäivä on 21.10.2026. Vanhalle keikkapäivälle (23.10.2025) ostetut liput käyvät sellaisenaan uudelle päivälle.</strong></p><br /><p>Voit halutessasi myös palauttaa pääsylipun 20.11.2025 mennessä osoitteessa: <a href="https://www.tiketti.fi/palautalippuja" target="_blank">www.tiketti.fi/palautalippuja</a><br></p><br /><p><em>Due to an overwhelming amount of adverse and unpredictable events<br /> that have transpired in recent weeks, we have come to the difficult <br />decision to postpone our upcoming We’re Only In It For The Euros fall <br />tour of Europe. We are currently working with our European promoters to <br />reschedule the dates for late spring/early summer 2026. It is our <br />intention to return stronger than ever and deliver shows worthy of the <br />most loyal Zappa fans on the planet. We are as disappointed as you are <br />by these developments and appreciate your understanding and continued <br />unwavering support.<br><br>“Music Is The Best!”<br>-Scott, Ray, Chad, Robbie, Nick, and Jamie.<br></em></p><br /><p>***<em></em></p><br /><p>"The modern day composer refuses to die!" - oli säveltäjä Edgard Varese'n slogan, jota Frank Zappa useissa yhteyksissä lainasi ja suorastaan eli todeksi varhaiseen poismenoonsa 1993 asti, vain 52-vuotiaana. Nyt yli 30 vuotta Zappan kuoleman jälkeen hänen musiikkinsa on enemmän elossa kuin koskaan. Banned From Utopian kokoonpano koostuu neljästä pitkäaikaisimmasta ikonisesta Zappa-alumnista ja kahdesta korkean asteen Zappologista, jotka yhdessä esittävät Frankin musiikkia uskomattomalla energialla ja pieteetillä. <br><br>Frank Zappan musiikilla on ollut laaja kannattajajoukko Suomessa jo 70-luvun alusta, kun hän vieraili ensimmäisiä kertoja Suomessa konsertoimassa. Banned From Utopian Ray White vieraili Zappan kanssa Helsingin Kulttuuritalolla 1977, Chad Wackerman, Bobby Martin ja Scott Thunes olivat kokoonpanossa viimeiseksi jääneen kiertueen Jäähalli-keikalla Helsingissä 1988.<br><br>Banned From Utopian ohjelmisto käsittää Zappan sävellyksiä koko laajan uran varrelta, joiden hallintaa ulkomuistista maestro vaati muusikoiltaan joka keikalla: "Frank would write the setlist literally five minutes before we went on stage – and, in all the three years of touring I did with him, the set was never the same twice,” Vai says. “We had a repertoire of 80 songs, 60% of which were completely death-defying on the guitar… They should never be played on the guitar!” - Steve Vai<br><br>BANNED FROM UTOPIA ‘We’re Only In It For The Euros’ - The European Tour 2025: <br><br>Ray White - laulu, kitara (Zappa 1976-1984) <br>Robert "Bobby" Martin - laulu, koskettimet, puhaltimet (Zappa 1981-1988)<br>Scott Thunes - basso, laulu (Zappa 1981-1988)<br>Chad Wackerman - rummut (Frank Zappa 1981-1988)<br>Robbie Mangano - kitara, laulu (GrandMothers of Invention, Sean Lennon)<br>Jamie Kime - kitara (Dweezil Zappa 'Zappa plays Zappa' 2007-2012)<br><br></p><br /><p>Chaos Schlageriksikin kuvailtu bändin musiikki on swengaavaa metallia, rockia, rautalankaa ja jopa jazzia yhdistelevää instrumentaalia. Keikalla kuullaan ennakkoon yleisölle täysin uutta musiikkia Mavon Safian tulevalta albumilta. Yhtyeen esikoisalbumi Introlation julkaistiin syksyllä 2023. Samana vuonna julkaistulla bändin ensisinglellä Projekt 13 vierailee kitaristilegenda Frank Gambale. Yhtyeen keikkakokoonpanossa rumpuja soittaa Teostopalkinnolla palkittu Jaakko Pöyhönen, bassoa rock and rollin historian aikana toinen Sibelius akatemian jazz osastolle sähköbassolla sisäänkävellyt Oliver Karttunen sekä toisessa kitarassa yli sadan keikan vuositahdilla keikkaillut Iisak Latvala. Tulemalla keikalle kuulet bändin uusimmat vitsit sekä licksit.</p><br /><hr><br /><p><strong>Saavutettavuus</strong></p><br /><p>Tavastian katutason kerros on esteetön. Sisäänkäynnillä on pieni kynnys, johon on saatavilla ramppi. Tilassa on esteetön wc-tila. <a href="https://tavastiaklubi.fi/info/" target="_blank" rel="noopener">Lue lisää saavutettavuudesta Tavastian sivuilta!</a>&nbsp;Avustaja ei tarvitse erillistä lippua vaan pääsee avustettavan kanssa samalla normaalilipulla sisään. Esitäthän pyydettäessä EU:n vammaiskortin.</p><br /><p><strong>Eteispalvelu</strong></p><br /><p>Eteispalvelusta veloitamme 4 € per henkilö. Päällysvaatteet ja suuret laukut tulee jättää narikkaan turvallisuussyistä. Huomioithan, että pääsylipussa mainittu palvelumaksu tarkoittaa Tiketin lipunmyynnin palvelumaksua, eikä eteispalvelua paikan päällä.</p><br /><p><strong>Turvallisuusohje</strong><br><br>Tavastialla on nollatoleranssi kaikenlaiselle häirinnälle, kiusaamiselle, syrjinnälle, väkivallalle sekä vallan väärinkäytölle. Edellytämme jokaista meillä vierailevaa sitoutumaan turvallisemman tilan periaatteisiin. Huomioithan siis keikalla myös ihmiset ympärilläsi!</p><br /><p><strong>Ympäristölippu<br><br></strong>Ympäristölipulla osallistut Tavastian ja Luonnoperintösäätiön metsäkeräykseen: 3 € osuus ohjataan metsäkeräykseen lokakuussa 2024 hankkimamme suojelualueen laajentamiseksi. <a href="https://luonnonperintosaatio.fi/tavastian-metsa" target="_blank" rel="noopener">Lue lisätietoja Luonnonperintösäätiön sivuilta.</a>&nbsp;Kiitos kun olet mukana rakentamassa kestävämpää Tavastiaa!</p><br /><p>Syömään ennen keikkaa?&nbsp;<a href="http://www.ravintolailves.fi/" target="_blank">Varaa pöytä Ravintola Ilveksestä!</a></p><br /><p></p><br /><p><strong>Juomatarjoilut</strong></p><br /><p>Haluatko nostaa keikkakäyntisi seuraavalle tasolle? Tilaa juotavaa ennakkoon ja minimoi jonotusaika baarissa! </p><br /><p>Voit noutaa juomasi suoraan noutopisteeltä pääesiintyjän esityksen alkamiseen saakka, minkä jälkeen noutamattomat juomat siirretään noudettavaksi aulabaarista. Juomatarjoiluiden myynti päättyy 2 tuntia ennen tapahtuman ovien aukeamista.</p><br /><p>Huomioithan, että ostot ovat lopullisia, emmekä hyvitä juomaostoja, jos et jostain syystä pääsekään keikalle. Keikan siirtyessä tai peruuntuessa Tavastia on erikseen yhteydessä juomia ostaneisiin asiakkaisiin.</p><br /><p>Tilaa juomatarjoilut keikalle ennakkoon <a href="https://www.tiketti.fi/tavastian-juomatarjoilut-tavastia-helsinki-lippuja/114987" target="_blank">täältä</a>!</p><br /><p><strong>Talon kuohuviinipullo:</strong><br><br />Flors Blanques cava, Espanja<br><br /><em>Kuiva, raikas, hedelmäinen, kukkaisa, elegantit kuplat</em></p><br /><p><strong>Talon valkoviinipullo: </strong><br><br />La Falaise Blanche Sauvignon Blanc, Ranska<br><br /><em>Kuiva, aromaattinen, raikkaan hapokas, yrttisyyttä ja vihreää omenaa</em></p><br /><p><strong>Talon rieslingpullo: </strong><br><br />X-berg Riesling, Saksa<br><br /><em>Kuiva, mineraalinen, hapokas, sitruksinen</em></p><br /><p><strong>Talon punaviinipullo:</strong><br><br />La Falaise Blanche Syrah, Ranska<br><br /><em>Keskitäyteläinen, luumuinen, mausteinen, pehmeät ja maltilliset tanniinit</em></p><br /><p><strong>Talon parempi punaviinipullo: </strong><br><br />Pegasus Stellarossa, Italia<br><br /><em>Täyteläinen, marjahilloinen, tumman kirsikkainen, runsas</em></p><br /><p><strong>Olutkori: </strong><br><br />4 x Karhu III 0,33l</p><br /><p><strong>Lonkerokori:</strong><br><br />4 x Koff Long Drink Grapefruit 0,33l</p><br /><p><strong>Makulonkerokori:</strong><br><br />1 x Koff Long Drink Mango, 1 x Koff Long Drink Pink Grapefruit,<br><br />1 x Koff Long Drink Twist, 1 x Koff Long Drink Karpalo</p><br /><p><strong>Siiderikori: </strong><br><br />4 x Crowmoor Dry Apple 0,33l</p><br /><p><strong><em>Yllättävissä tuotepuutoksissa pidätämme oikeuden korvata tuote vastaavalla tuotteella valikoimastamme </em></strong></p><br /><br /><p><br></p><br /><p><strong><br></strong></p><br /><p><strong>Varmista soittoajat keikkapäivänä <a href="https://www.tavastiaklubi.fi" target="_blank"><span style="text-decoration-line: underline;">Tavastian sivuilta</span></a>.</strong></p><br /><p><strong><br></strong></p> <br /><br />  Visit event in our website: <a href='https://tapahtumainfo.fi/tapahtuma/2026/10/banned-from-utopia-usa-mavon-safia/400520'>Tapahtumainfo.fi</a></body></html>
END:VEVENT
END:VCALENDAR
