BEGIN:VCALENDAR
VERSION:2.0
PRODID:-//tapahtumainfo.fi//NONSGML Teflon Brothers K-18//EN
METHOD:REQUEST
BEGIN:VEVENT
UID:20260421T193344-1091838865-tapahtumainfo.fi
DTSTAMP:20260421T193344
DTSTART:20251210T190000Z
DTEND:20251210T020000Z
LOCATION:Kulttuuritalo Martinus
SUMMARY:Teflon Brothers K-18
DESCRIPTION:<html><head></head><body>Teflon Brothers on perustettu vuonna 2006. Yhtye on julkaissut lukemattoman määrän hittejä ja pokannut useita platinalevyjä. Teflon Brothers osallistui 2021 euroviisikarsintoihin Pandoran kanssa kappaleella I Love You jossa sijoittui toiseksi.<br><br>”Teflonit on kuin bakteeri, joka etenee, kunnes se tapetaan. Siihen ei sivulliset tekijät vaikuta.” – Heikki Kuula<br><br>Teflon Brothersin muodostavat Pyhimys, Heikki Kuula ja Voli. <br /><br />  Visit event in our website: <a href='https://tapahtumainfo.fi/tapahtuma/2025/12/teflon-brothers-k-18/401973'>Tapahtumainfo.fi</a></body></html>
END:VEVENT
END:VCALENDAR
