BEGIN:VCALENDAR
VERSION:2.0
PRODID:-//tapahtumainfo.fi//NONSGML Assembly Winter 2026//EN
METHOD:REQUEST
BEGIN:VEVENT
UID:20260423T183047-1301166761-tapahtumainfo.fi
DTSTAMP:20260423T183047
DTSTART:20260219T020000Z
DTEND:20260219T020000Z
LOCATION:Helsingin Messukeskus
SUMMARY:Assembly Winter 2026
DESCRIPTION:<html><head></head><body><h2><strong>ASSEMBLY WINTER 2026 - LIPUT & INFO</strong></h2><br /><p dir="ltr">Assembly on Suomen suurin pelaamiseen ja digitaaliseen <br />kulttuuriin keskittyvä tapahtuma, joka järjestetään kaksi kertaa <br />vuodessa Helsingin Messukeskuksessa.<br></p><br /><p dir="ltr"><strong>Assemblyille voit osallistua ostamalla joko oman konepaikan tai kävijälipun. </strong></p><br /><p dir="ltr"><strong>Konepaikkoja</strong> myydään useissa kategorioissa<br /> ja ne kaikki ovat voimassa 4 vuorokautta torstaista sunnuntaihin. <br />Tapahtuma on käynnissä 24 h vuorokaudessa ja kävijät voivat myös yöpyä <br />tapahtumassa erillisellä nukkuma-alueella. Konepaikkalipulla pääset <br />osallistumaan turnauksiin ja aktivointeihin, jotka on rajattu vain <br />konepaikan haltioille.</p><br /><p dir="ltr"><strong>Kävijälippuihin</strong> ei kuulu omaa konepaikkaa,<br /> mutta niillä pääsee seuraamaan tapahtuman runsasta ohjelmaa, <br />osallistumaan aktiviteetteihin ja Assymylly-taistelupeliturnaukseen sekä<br /> pelaamaan useilla eri pelipisteillä. Kävijälippuja myydään kaikille <br />tapahtumapäiville erikseen sekä myös useammalle päivälle.</p><br /><p dir="ltr"><br></p><br /><p dir="ltr">Konepaikkaliput ja useamman päivän kävijäliput sisältävät yöpymismahdollisuuden sekä suihkujen ja saunojen käytön tapahtumassa.</p><br /><p dir="ltr">Tapahtuma on turvallinen ja sopii kaikenikäisille <br />tietokone- ja pelikulttuurista kiinnostuneille. Tapahtumassa <br />työskentelevät ammattilaiset järjestyksenvalvojat, ensiapupäivystäjät <br />sekä häirintäyhdyshenkilöt. Tapahtuma on päihteetön.</p><br /><p dir="ltr">Tapahtumassa ei ole ikärajaa ja se soveltuu <br />kaikenikäisille. Ilman vanhempiaan yksin saapuville lapsille <br />suositusikäraja on 13 vuotta. Alle 7-vuotiaat lapset pääsevät sisään <br />veloituksetta aikuisen seurassa.</p><br /><p dir="ltr">Osa lavoilla esitettävistä peleistä ja turnauksista on kielletty alle 16-vuotiailta katsojilta.</p><br /><br /><p><br></p><br /><h3><strong>KONEPAIKAT</strong></h3><br /><h4 dir="ltr">Standard-konepaikka<br></h4><br /><p dir="ltr">- Netti 100 Mb/s<br>- Perustuoli - voit tuoda myös oman tuolin<br>- 100 cm leveä konepaikka<br>- Nukkuma-alueen, suihkujen ja saunan käyttö<br>- Osallistumisoikeus turnauksiin<br>- Sisäänpääsy  yhdelle henkilölle tapahtumaan 24 h/vrk to-su</p><br /><h4 dir="ltr">Premium-konepaikka<br></h4><br /><p dir="ltr">- Netti 1 Gb/s<br>- Kevyesti pehmustettu tuoli - voit tuoda myös oman tuolin<br>- Pääsy Premium Loungeen 24 h/ vrk, jossa viihtyisä hengailualue sekä kahvitarjoilu. Loungessa saattaa lisäksi olla tarjolla tapahtuman kumppaneilta pikkupurtavaa ja muuta tarjoilua.<br>- 100 cm leveä konepaikka<br>- Nukkuma-alueen, suihkujen ja saunan käyttö<br>- Osallistumisoikeus turnauksiin<br>- Sisäänpääsy  yhdelle henkilölle tapahtumaan 24 h/vrk to-su<br>-<br /> Aikaisempi sisäänpääsy ensimmäisenä tapahtumapäivänä eli torstaina. <br />Voit tulla sisään jo klo 10, sisäänpääsy aukeaa muille asiakkaille klo <br />12</p><br /><h4 dir="ltr">Premium K-22 -konepaikka<br></h4><br /><p dir="ltr">- Netti 1 Gb/s<br>- Rauhallinen sijainti omalla <strong>vain yli 22-vuotiaille</strong> tarkoitetulla alueella<br>- Kevyesti pehmustettu tuoli - voit tuoda myös oman tuolin<br>- Pääsy Premium Loungeen 24 h/ vrk, jossa viihtyisä hengailualue sekä kahvitarjoilu. Loungessa saattaa lisäksi olla tarjolla tapahtuman kumppaneilta pikkupurtavaa ja muuta tarjoilua.<br>- 100 cm levyinen konepaikka<br>- Nukkuma-alueen, suihkujen ja saunan käyttö<br>- Osallistumisoikeus turnauksiin<br>- Sisäänpääsy  yhdelle henkilölle tapahtumaan 24 h/vrk to-su<br>-<br /> Aikaisempi sisäänpääsy ensimmäisenä tapahtumapäivänä eli torstaina. <br />Voit tulla sisään jo klo 10, sisäänpääsy aukeaa muille asiakkaille klo <br />12<br></p><br /><h3><strong>FAMILY-KONEPAIKAT</strong></h3><br /><p><strong>Tämä lipputyyppi on tarkoitettu perheille, jotka tulevat tapahtumaan yhdessä lasten kanssa.</strong><br>Family-konepaikat<br /> on tarkoitettu perheille, jotka osallistuvat tapahtumaan yhdessä lasten<br /> kanssa. Konepaikat sijaitsevat rauhallisissa perheille tarkoitetuissa <br />pöydissä. Yksi konepaikkalippu oikeuttaa yhteen konepaikkaan <br />Family-pöydässä. Jos osallistut tapahtumaan esimerkiksi nelihenkisellä <br />perheelle ja jokainen haluaa pelata omalla konepaikalla, sinun tulee <br />ostaa neljä konepaikkaa.<br></p><br /><h4 dir="ltr">Family-konepaikka<br></h4><br /><p dir="ltr">- Netti 100 Mb/s<br>- Perustuoli - voit tuoda myös oman tuolin<br>- 100 cm levyinen konepaikka<br>- Nukkuma-alueen, suihkujen ja saunan käyttö<br>- Osallistumisoikeus turnauksiin<br>- Sisäänpääsy yhdelle henkilölle&nbsp;tapahtumaan 24 h/vrk to-su</p><br /><h4 dir="ltr">Premium Family-konepaikka<br></h4><br /><p>- Netti 1 Gb/s<br>- Kevyesti pehmustettu tuoli - voit tuoda myös oman tuolin<br>- Pääsy Premium Loungeen 24 h/ vrk, jossa viihtyisä hengailualue sekä kahvitarjoilu. Loungessa saattaa lisäksi olla tarjolla tapahtuman kumppaneilta pikkupurtavaa ja muuta tarjoilua.<br>- 100 cm leveä konepaikka<br>- Nukkuma-alueen, suihkujen ja saunan käyttö<br>- Osallistumisoikeus turnauksiin<br>- Sisäänpääsy  yhdelle henkilölle tapahtumaan 24 h/vrk to-su<br>-<br /> Aikaisempi sisäänpääsy ensimmäisenä tapahtumapäivänä eli torstaina. <br />Voit tulla sisään jo klo 10, sisäänpääsy aukeaa muille asiakkaille klo <br />12</p><br /><p></p><br /><h3><strong>KÄVIJÄLIPUT</strong></h3><br /><p>Tapahtuma on ikärajaton, koko perheen tapahtuma. Tapahtumamme suositusikäraja ilman vanhempiaan osallistuville nuorille on 13 vuotta.<br>Alle 7-vuotiaat lapset pääsevät veloituksetta tapahtumaan lipun ostaneen vanhemman seurassa.</p><br /><p>Kävijäliput eivät sisällä omaa konepaikkaa LAN-hallista.<br>Kävijälipuilla pääsee seuraamaan tapahtuman runsasta ohjelmaa, pelaamaan monilla tapahtuman pelipisteillä ja osallistumaan myös osaan turnauksista.</p><br /><p><strong>Useamman päivän kävijäliput&nbsp;</strong></p><br /><ul><li>Sisäänpääsy tapahtumaan 24h/vrk lipun voimassaoloaikana<ul><li>4 vrk TO-SU: torstaina klo 12 alkaen</li><li>3 vrk PE-SU: perjantaina klo 10:30 alkaen</li><li>2 vrk LA-SU: lauantaina klo 10:30 alkaen</li></ul></li><li>Nukkuma-alueen ja suihkujen käytön</li><li>Osallistumisoikeus avoimiin turnauksiin (pois lukien aktivoinnit ja turnaukset, jotka pelataan omaa tietokonetta käyttäen)</li><li>Äänestysoikeus demoskene-kilpailuissa</li></ul><br /><p><strong>1 vrk päivälippu TO, PE, LA tai SU</strong></p><br /><ul><li>Sisäänpääsy tapahtumaan<ul></ul></li><li>Osallistumisoikeus avoimiin turnauksiin (poislukien aktivoinnit ja turnaukset, jotka pelataan omaa tietokonetta käyttäen)</li><li>Äänestysoikeus demoskene-kilpailuissa</li><li>Päivälipun voimassaoloaika päättyy expo-alueen sulkeutuessa to-la 22:00 ja sunnuntaina 14:00</li></ul><br /><p><strong>SU – Perhepaketti</strong></p><br /><ul><li>Max 2 aikuista ja max 3 lasta</li><li>Sisäänpääsy tapahtumaan sunnuntaina klo 10:00 – 14:00</li><li>Assembly KIDS-ohjelmakokonaisuus tarjoaa hauskaa ja osallistavaa tekemistä erityisesti lapsille ja perheille. Sisältöön kuuluu muun muassa esteratoja, pelialueita, aktivoivia työpajoja sekä viihdyttäviä pelinäytöksiä ja kohtaamisia tuttujen vaikuttajien kanssa. KIDS-ohjelmaa järjestetään erityisesti tapahtuman sunnuntaipäivänä, jolloin tapahtumassa panostetaan koko perheen viihtymiseen. Tavoitteena on tarjota elämyksiä nuoremmalle yleisölle sekä yhteisiä hetkiä kaikenikäisille kävijöille.</li></ul><br /><p><br></p> <br /><br />  Visit event in our website: <a href='https://tapahtumainfo.fi/tapahtuma/2026/02/assembly-winter-2026/402412'>Tapahtumainfo.fi</a></body></html>
END:VEVENT
END:VCALENDAR
