BEGIN:VCALENDAR
VERSION:2.0
PRODID:-//tapahtumainfo.fi//NONSGML Jacke Björklund: Suomi - Finland -stand up show//EN
METHOD:REQUEST
BEGIN:VEVENT
UID:20260422T114829-1762690367-tapahtumainfo.fi
DTSTAMP:20260422T114829
DTSTART:20251031T190019Z
DTEND:20251031T020000Z
LOCATION:Kulttuuritalo Grand
SUMMARY:Jacke Björklund: Suomi - Finland -stand up show
DESCRIPTION:<html><head></head><body> <br /><br />  Visit event in our website: <a href='https://tapahtumainfo.fi/tapahtuma/2025/10/jacke-bjorklund-suomi-finland-stand-up-show/402954'>Tapahtumainfo.fi</a></body></html>
END:VEVENT
END:VCALENDAR
